BEGIN:VCALENDAR
VERSION:2.0
PRODID:-//Teilchenwelt - ECPv6.15.20//NONSGML v1.0//EN
CALSCALE:GREGORIAN
METHOD:PUBLISH
X-ORIGINAL-URL:https://www.teilchenwelt.de
X-WR-CALDESC:Veranstaltungen für Teilchenwelt
REFRESH-INTERVAL;VALUE=DURATION:PT1H
X-Robots-Tag:noindex
X-PUBLISHED-TTL:PT1H
BEGIN:VTIMEZONE
TZID:Europe/Berlin
BEGIN:DAYLIGHT
TZOFFSETFROM:+0100
TZOFFSETTO:+0200
TZNAME:CEST
DTSTART:20210328T010000
END:DAYLIGHT
BEGIN:STANDARD
TZOFFSETFROM:+0200
TZOFFSETTO:+0100
TZNAME:CET
DTSTART:20211031T010000
END:STANDARD
BEGIN:DAYLIGHT
TZOFFSETFROM:+0100
TZOFFSETTO:+0200
TZNAME:CEST
DTSTART:20220327T010000
END:DAYLIGHT
BEGIN:STANDARD
TZOFFSETFROM:+0200
TZOFFSETTO:+0100
TZNAME:CET
DTSTART:20221030T010000
END:STANDARD
BEGIN:DAYLIGHT
TZOFFSETFROM:+0100
TZOFFSETTO:+0200
TZNAME:CEST
DTSTART:20230326T010000
END:DAYLIGHT
BEGIN:STANDARD
TZOFFSETFROM:+0200
TZOFFSETTO:+0100
TZNAME:CET
DTSTART:20231029T010000
END:STANDARD
END:VTIMEZONE
BEGIN:VEVENT
DTSTART;TZID=Europe/Berlin:20220903T120000
DTEND;TZID=Europe/Berlin:20220904T180000
DTSTAMP:20260422T223900
CREATED:20241128T091609Z
LAST-MODIFIED:20241128T094805Z
UID:74849-1662206400-1662314400@www.teilchenwelt.de
SUMMARY:Ausstellung: Urknall unterwegs
DESCRIPTION:Urknall unterwegs zu Gast auf dem Stadtteilkulturfest „BilleVue“ in Hamburg Billstedt von 12-18 Uhr. \nDie mobile Ausstellung Urknall unterwegs bringt die Teilchenphysik zu den Menschen und veranschaulicht\, wie diese unser Verständnis des Universums revolutioniert hat. Mit ihr erleben die Besucherinnen und Besucher eine spannende Zeitreise in wenigen Schritten – vom Urknall bis zur Gegenwart. Außerdem können sie etwas über die Menschen erfahren\, die in der Teilchenphysik wissenschaftlich tätig sind: Wie und warum geforscht wird und vor allem wie sich das auf ihren Alltag und die Gesellschaft auswirkt. Dazu gibt es thematisch passende Spiele für Groß und Klein. Immer ansprechbar dabei: die Urknall-Guides – engagierte junge Studierende\, die sich für Teilchenphysik begeistern.\nWillkommen sind alle\, die sich für die Entstehung unseres Universums interessieren. \nEintritt kostenfrei \nwww.billevue.de/billevue-8/
URL:https://www.teilchenwelt.de/event/ausstellung-urknall-unterwegs-2022-09-03-72870/
LOCATION:Stiftung Kultur Palast Hamburg\, Öjendorfer Weg 30a\, Hamburg\, 22119\, Deutschland
CATEGORIES:Ausstellung
END:VEVENT
END:VCALENDAR