BEGIN:VCALENDAR
VERSION:2.0
PRODID:-//Teilchenwelt - ECPv6.15.20//NONSGML v1.0//EN
CALSCALE:GREGORIAN
METHOD:PUBLISH
X-ORIGINAL-URL:https://www.teilchenwelt.de
X-WR-CALDESC:Veranstaltungen für Teilchenwelt
REFRESH-INTERVAL;VALUE=DURATION:PT1H
X-Robots-Tag:noindex
X-PUBLISHED-TTL:PT1H
BEGIN:VTIMEZONE
TZID:Europe/Berlin
BEGIN:DAYLIGHT
TZOFFSETFROM:+0100
TZOFFSETTO:+0200
TZNAME:CEST
DTSTART:20210328T010000
END:DAYLIGHT
BEGIN:STANDARD
TZOFFSETFROM:+0200
TZOFFSETTO:+0100
TZNAME:CET
DTSTART:20211031T010000
END:STANDARD
BEGIN:DAYLIGHT
TZOFFSETFROM:+0100
TZOFFSETTO:+0200
TZNAME:CEST
DTSTART:20220327T010000
END:DAYLIGHT
BEGIN:STANDARD
TZOFFSETFROM:+0200
TZOFFSETTO:+0100
TZNAME:CET
DTSTART:20221030T010000
END:STANDARD
BEGIN:DAYLIGHT
TZOFFSETFROM:+0100
TZOFFSETTO:+0200
TZNAME:CEST
DTSTART:20230326T010000
END:DAYLIGHT
BEGIN:STANDARD
TZOFFSETFROM:+0200
TZOFFSETTO:+0100
TZNAME:CET
DTSTART:20231029T010000
END:STANDARD
END:VTIMEZONE
BEGIN:VEVENT
DTSTART;TZID=Europe/Berlin:20220919T090000
DTEND;TZID=Europe/Berlin:20220920T140000
DTSTAMP:20260422T223833
CREATED:20241128T091501Z
LAST-MODIFIED:20241128T094724Z
UID:74486-1663578000-1663682400@www.teilchenwelt.de
SUMMARY:Tagung Elementarteilchenphysik in der Schule
DESCRIPTION:Ziel der Tagungsserie ist es\, durch die Zusammenführung fachlicher\, fachdidaktischer und bildungswissenschaftlicher Gesichtspunkte zu bundesweit abgestimmten\, fachlich korrekten und didaktisch reduzierten Begriffsbildungen für den Unterricht der „Physik der kleinsten Teilchen“ in der Schule zu kommen und die schulrelevanten Inhalte und Konzepte zu identifizieren. \nindico.cern.ch/event/1108656/
URL:https://www.teilchenwelt.de/event/tagung-elementarteilchenphysik-in-der-schule-2022-09-19-72202/
LOCATION:Technische Universität Dresden\, Haeckelstraße 3\, Dresden\, 01069\, Deutschland
END:VEVENT
END:VCALENDAR