BEGIN:VCALENDAR
VERSION:2.0
PRODID:-//Teilchenwelt - ECPv6.15.20//NONSGML v1.0//EN
CALSCALE:GREGORIAN
METHOD:PUBLISH
X-WR-CALNAME:Teilchenwelt
X-ORIGINAL-URL:https://www.teilchenwelt.de
X-WR-CALDESC:Veranstaltungen für Teilchenwelt
REFRESH-INTERVAL;VALUE=DURATION:PT1H
X-Robots-Tag:noindex
X-PUBLISHED-TTL:PT1H
BEGIN:VTIMEZONE
TZID:Europe/Berlin
BEGIN:DAYLIGHT
TZOFFSETFROM:+0100
TZOFFSETTO:+0200
TZNAME:CEST
DTSTART:20210328T010000
END:DAYLIGHT
BEGIN:STANDARD
TZOFFSETFROM:+0200
TZOFFSETTO:+0100
TZNAME:CET
DTSTART:20211031T010000
END:STANDARD
BEGIN:DAYLIGHT
TZOFFSETFROM:+0100
TZOFFSETTO:+0200
TZNAME:CEST
DTSTART:20220327T010000
END:DAYLIGHT
BEGIN:STANDARD
TZOFFSETFROM:+0200
TZOFFSETTO:+0100
TZNAME:CET
DTSTART:20221030T010000
END:STANDARD
BEGIN:DAYLIGHT
TZOFFSETFROM:+0100
TZOFFSETTO:+0200
TZNAME:CEST
DTSTART:20230326T010000
END:DAYLIGHT
BEGIN:STANDARD
TZOFFSETFROM:+0200
TZOFFSETTO:+0100
TZNAME:CET
DTSTART:20231029T010000
END:STANDARD
END:VTIMEZONE
BEGIN:VEVENT
DTSTART;TZID=Europe/Berlin:20221004T100000
DTEND;TZID=Europe/Berlin:20221018T180000
DTSTAMP:20260422T205334
CREATED:20241128T091223Z
LAST-MODIFIED:20241128T094252Z
UID:73665-1664877600-1666116000@www.teilchenwelt.de
SUMMARY:Test: Ausstellung: Urknall unterwegs (Kopie)
DESCRIPTION:Urknall unterwegs zu Gast auf der Mainzer Science Week auf dem Gutenbergplatz vor dem Staatstheater.\nIn Kooperation mit dem Exzellencecluster PRISMA+ der Johannes Gutenberg-Universität Mainz.  \nDie mobile Ausstellung Urknall unterwegs bringt die Teilchenphysik zu den Menschen und veranschaulicht\, wie diese unser Verständnis des Universums revolutioniert hat. Mit ihr erleben die Besucherinnen und Besucher eine spannende Zeitreise in wenigen Schritten – vom Urknall bis zur Gegenwart. Außerdem können sie etwas über die Menschen erfahren\, die in der Teilchenphysik wissenschaftlich tätig sind: Wie und warum geforscht wird und vor allem wie sich das auf ihren Alltag und die Gesellschaft auswirkt. Dazu gibt es thematisch passende Spiele für Groß und Klein. Immer ansprechbar dabei: die Urknall-Guides – engagierte junge Studierende\, die sich für Teilchenphysik begeistern.\nWillkommen sind alle\, die sich für die Entstehung unseres Universums interessieren. \nEintritt kostenfrei \nwww.wissenimherzen.mainz.de\nwww.wissenschaftsallianz-mainz.de
URL:https://www.teilchenwelt.de/event/test-ausstellung-urknall-unterwegs-kopie-2022-10-04-73506/
LOCATION:Staatstheater Mainz\, Gutenbergplatz 7\, Mainz\, 55116\, Deutschland
CATEGORIES:Ausstellung
END:VEVENT
BEGIN:VEVENT
DTSTART;TZID=Europe/Berlin:20221005T130000
DTEND;TZID=Europe/Berlin:20221005T143000
DTSTAMP:20260422T205334
CREATED:20241128T091357Z
LAST-MODIFIED:20241128T094534Z
UID:74160-1664974800-1664980200@www.teilchenwelt.de
SUMMARY:Vernetzungstreffen: Fellows & Gruppenleiter:innen
DESCRIPTION:Ziel ist es\, den Kontakt und Wissensaustausch zwischen den Gruppenleiter:innen und dem wissenschaftlichen Nachwuchs in Präsenz herzustellen und gemeinsam Möglichkeiten der Zusammenarbeit zu entwickeln. \nInhalte:\n– Einblicke in die aktuelle Forschung\n– Planungsstand und Einsatzmöglichkeiten der Fellows bei der DPG-Frühjahrstagung 2023 in Dresden\n– Nach Erhalt des Zuschlags für das Deutsche Zentrum für Astrophysik (DZA) in der Lausitz: Auswirkungen für das Institut für Kern- und Teilchenphysik\n– Planung weiterer Veranstaltungen (z.B. Besuch Felsenkeller\, Bohrloch DZA etc.)
URL:https://www.teilchenwelt.de/event/vernetzungstreffen-fellows-gruppenleiterinnen-2022-10-05-72518/
LOCATION:Technische Universität Dresden\, Zellescher Weg 19\, Dresden\, 01069\, Deutschland
END:VEVENT
END:VCALENDAR