BEGIN:VCALENDAR
VERSION:2.0
PRODID:-//Teilchenwelt - ECPv6.15.20//NONSGML v1.0//EN
CALSCALE:GREGORIAN
METHOD:PUBLISH
X-WR-CALNAME:Teilchenwelt
X-ORIGINAL-URL:https://www.teilchenwelt.de
X-WR-CALDESC:Veranstaltungen für Teilchenwelt
REFRESH-INTERVAL;VALUE=DURATION:PT1H
X-Robots-Tag:noindex
X-PUBLISHED-TTL:PT1H
BEGIN:VTIMEZONE
TZID:Europe/Berlin
BEGIN:DAYLIGHT
TZOFFSETFROM:+0100
TZOFFSETTO:+0200
TZNAME:CEST
DTSTART:20210328T010000
END:DAYLIGHT
BEGIN:STANDARD
TZOFFSETFROM:+0200
TZOFFSETTO:+0100
TZNAME:CET
DTSTART:20211031T010000
END:STANDARD
BEGIN:DAYLIGHT
TZOFFSETFROM:+0100
TZOFFSETTO:+0200
TZNAME:CEST
DTSTART:20220327T010000
END:DAYLIGHT
BEGIN:STANDARD
TZOFFSETFROM:+0200
TZOFFSETTO:+0100
TZNAME:CET
DTSTART:20221030T010000
END:STANDARD
BEGIN:DAYLIGHT
TZOFFSETFROM:+0100
TZOFFSETTO:+0200
TZNAME:CEST
DTSTART:20230326T010000
END:DAYLIGHT
BEGIN:STANDARD
TZOFFSETFROM:+0200
TZOFFSETTO:+0100
TZNAME:CET
DTSTART:20231029T010000
END:STANDARD
END:VTIMEZONE
BEGIN:VEVENT
DTSTART;VALUE=DATE:20221110
DTEND;VALUE=DATE:20221111
DTSTAMP:20260422T190655
CREATED:20241128T091328Z
LAST-MODIFIED:20241128T094419Z
UID:74006-1668038400-1668124799@www.teilchenwelt.de
SUMMARY:Astroteilchenphysik-Masterclass
DESCRIPTION:Arbeiten wie Astroteilchenphysiker:innen – das kann man bei einer Masterclass des Netzwerk Teilchenwelt.  \nWie und wo werden kosmische Teilchen erzeugt? Warum können sie z.T. so extrem hohe Energien besitzen. Und gibt es dunkle Materie? Diesen und anderen Fragen gehen Astroteilchenphysiker:innen in der ganzen Welt nach. Mithilfe von riesigen Experimenten wie z.B. dem Pierre-Auger-Observatorium in der Pampa Amarilla in Argentinien gehen sie der Entstehung der Welt auf den Grund und schließen von den kleinsten Teilchen auf die großen Zusammenhänge im Universum.  \nBei einer Astroteilchen-Masterclass lernen Jugendliche im Alter von 15-19 Jahren nach einem einführenden Vortrag\, wie man kosmische Teilchen messen und untersuchen kann. Nachwuchs-Astroteilchenphysiker:innen helfen dabei\, echte Messdaten zu analysieren und zu interpretieren\, was sie uns über das Universum verraten. Die Teilnahme erfordert keine Vorkenntnisse – nur Interesse an dem Thema Astroteilchenphysik.
URL:https://www.teilchenwelt.de/event/astroteilchenphysik-masterclass-2022-11-10-73323/
LOCATION:Hermann-Staudinger-Gymnasium Erlenbach\, Elsenfelder Str. 55\, Erlenbach am Main\, 63906\, Deutschland
CATEGORIES:Masterclass
END:VEVENT
END:VCALENDAR