BEGIN:VCALENDAR
VERSION:2.0
PRODID:-//Teilchenwelt - ECPv6.15.20//NONSGML v1.0//EN
CALSCALE:GREGORIAN
METHOD:PUBLISH
X-ORIGINAL-URL:https://www.teilchenwelt.de
X-WR-CALDESC:Veranstaltungen für Teilchenwelt
REFRESH-INTERVAL;VALUE=DURATION:PT1H
X-Robots-Tag:noindex
X-PUBLISHED-TTL:PT1H
BEGIN:VTIMEZONE
TZID:Europe/Berlin
BEGIN:DAYLIGHT
TZOFFSETFROM:+0100
TZOFFSETTO:+0200
TZNAME:CEST
DTSTART:20210328T010000
END:DAYLIGHT
BEGIN:STANDARD
TZOFFSETFROM:+0200
TZOFFSETTO:+0100
TZNAME:CET
DTSTART:20211031T010000
END:STANDARD
BEGIN:DAYLIGHT
TZOFFSETFROM:+0100
TZOFFSETTO:+0200
TZNAME:CEST
DTSTART:20220327T010000
END:DAYLIGHT
BEGIN:STANDARD
TZOFFSETFROM:+0200
TZOFFSETTO:+0100
TZNAME:CET
DTSTART:20221030T010000
END:STANDARD
BEGIN:DAYLIGHT
TZOFFSETFROM:+0100
TZOFFSETTO:+0200
TZNAME:CEST
DTSTART:20230326T010000
END:DAYLIGHT
BEGIN:STANDARD
TZOFFSETFROM:+0200
TZOFFSETTO:+0100
TZNAME:CET
DTSTART:20231029T010000
END:STANDARD
END:VTIMEZONE
BEGIN:VEVENT
DTSTART;VALUE=DATE:20221121
DTEND;VALUE=DATE:20221123
DTSTAMP:20260422T205757
CREATED:20241128T091328Z
LAST-MODIFIED:20241128T094419Z
UID:74007-1668988800-1669161599@www.teilchenwelt.de
SUMMARY:International Cosmic Day
DESCRIPTION:Was sind kosmische Teilchen? Wo kommen sie her? Wie können sie gemessen werden? Macht mit beim „International Cosmic Day“ und findet die Antwort auf diese Fragen. Jugendliche und Lehrkräfte auf der ganzen Welt können die Forschung mit kosmischen Teilchen kennenlernen und sich bei Experimenten mit Wissenschaftler:innen austauschen.\nWeltweit beteiligen sich Forschungseinrichtungen und Universitäten am „International Cosmic Day“. Wissenschaftler:innen unterstützen die Teilnehmenden bei der Messung von kosmischen Teilchen\, der Analyse und Auswertung der Daten und bei der Präsentation der Messergebnisse – genau wie bei der Arbeit in einer internationalen Kollaboration. \nWeitere Informationen unter: icd.desy.de/ \nBei der Veranstaltung handelt es sich um eine geschlossene Veranstaltung.
URL:https://www.teilchenwelt.de/event/international-cosmic-day-2022-11-21-73538/
LOCATION:Gymnasium Villa Elisabeth\, Eichstraße 1\, Wildau\, 15745\, Deutschland
CATEGORIES:Vortrag,Workshop
END:VEVENT
BEGIN:VEVENT
DTSTART;VALUE=DATE:20221122
DTEND;VALUE=DATE:20221123
DTSTAMP:20260422T205757
CREATED:20241128T091253Z
LAST-MODIFIED:20241128T094330Z
UID:73823-1669075200-1669161599@www.teilchenwelt.de
SUMMARY:International Cosmic Day
DESCRIPTION:Was sind kosmische Teilchen? Wo kommen sie her? Wie können sie gemessen werden? Macht mit beim „International Cosmic Day“ und findet die Antwort auf diese Fragen. Jugendliche und Lehrkräfte auf der ganzen Welt können die Forschung mit kosmischen Teilchen kennenlernen und sich bei Experimenten mit Wissenschaftler:innen austauschen.\nWeltweit beteiligen sich Forschungseinrichtungen und Universitäten am „International Cosmic Day“. Wissenschaftler:innen unterstützen die Teilnehmenden bei der Messung von kosmischen Teilchen\, der Analyse und Auswertung der Daten und bei der Präsentation der Messergebnisse – genau wie bei der Arbeit in einer internationalen Kollaboration. \nWeitere Informationen unter: icd.desy.de/
URL:https://www.teilchenwelt.de/event/international-cosmic-day-2022-11-22-73538/
LOCATION:Gymnasium Villa Elisabeth\, Eichstraße 1\, Wildau\, 15745\, Deutschland
CATEGORIES:Vortrag,Workshop
END:VEVENT
BEGIN:VEVENT
DTSTART;TZID=Europe/Berlin:20221122T090000
DTEND;TZID=Europe/Berlin:20221122T170000
DTSTAMP:20260422T205757
CREATED:20241128T091421Z
LAST-MODIFIED:20241128T094603Z
UID:74278-1669107600-1669136400@www.teilchenwelt.de
SUMMARY:International Cosmic Day
DESCRIPTION:Was sind kosmische Teilchen? Wo kommen sie her? Wie können sie gemessen werden? Macht mit beim „International Cosmic Day“ und findet die Antwort auf diese Fragen. Jugendliche und Lehrkräfte auf der ganzen Welt können die Forschung mit kosmischen Teilchen kennenlernen und sich bei Experimenten mit Wissenschaftler:innen austauschen.\nWeltweit beteiligen sich Forschungseinrichtungen und Universitäten am „International Cosmic Day“. Wissenschaftler:innen unterstützen die Teilnehmenden bei der Messung von kosmischen Teilchen\, der Analyse und Auswertung der Daten und bei der Präsentation der Messergebnisse – genau wie bei der Arbeit in einer internationalen Kollaboration. \nWeitere Informationen unter: icd.desy.de/ \nIn Dresden wird es am 22.11.2022 ab 9:00 Uhr einen Ein­­­füh­­rungs­­­vortrag zum The­ma Astroteilchen­phy­sik geben. Anschließend werdet Ihr eigene Experimente durchführen und Spuren kosmischer Teilchen in einer Nebelkammer sichtbar machen. Am Ende wollen wir unsere Ergebnisse in einer Videokonferenz mit anderen Gruppen aus Europa diskutieren. \nDie Ergebnisse sollen für ein Booklett aufbereitet werden\, das die Projekte aller teilnehmenden Gruppen zusammenfasst. \nDer International Cosmic Day ist eine Veranstaltung von DESY\, IPPOG und Netzwerk Teilchenwelt sowie vom Fermilab mit seinem Schülerprojekt QuarkNet (USA). Allgemeine Informationen findet ihr hier: icd.desy.de/ \nindico.cern.ch/event/1208845/ \nBitte melden Sie sich hier für die Veranstaltung an:\nindico.cern.ch/event/1208845/
URL:https://www.teilchenwelt.de/event/international-cosmic-day-2022-11-22-72518/
LOCATION:Technische Universität Dresden\, Zellescher Weg 19\, Dresden\, 01069\, Deutschland
CATEGORIES:Vortrag,Workshop
END:VEVENT
END:VCALENDAR