BEGIN:VCALENDAR
VERSION:2.0
PRODID:-//Teilchenwelt - ECPv6.15.20//NONSGML v1.0//EN
CALSCALE:GREGORIAN
METHOD:PUBLISH
X-WR-CALNAME:Teilchenwelt
X-ORIGINAL-URL:https://www.teilchenwelt.de
X-WR-CALDESC:Veranstaltungen für Teilchenwelt
REFRESH-INTERVAL;VALUE=DURATION:PT1H
X-Robots-Tag:noindex
X-PUBLISHED-TTL:PT1H
BEGIN:VTIMEZONE
TZID:Europe/Berlin
BEGIN:DAYLIGHT
TZOFFSETFROM:+0100
TZOFFSETTO:+0200
TZNAME:CEST
DTSTART:20220327T010000
END:DAYLIGHT
BEGIN:STANDARD
TZOFFSETFROM:+0200
TZOFFSETTO:+0100
TZNAME:CET
DTSTART:20221030T010000
END:STANDARD
BEGIN:DAYLIGHT
TZOFFSETFROM:+0100
TZOFFSETTO:+0200
TZNAME:CEST
DTSTART:20230326T010000
END:DAYLIGHT
BEGIN:STANDARD
TZOFFSETFROM:+0200
TZOFFSETTO:+0100
TZNAME:CET
DTSTART:20231029T010000
END:STANDARD
BEGIN:DAYLIGHT
TZOFFSETFROM:+0100
TZOFFSETTO:+0200
TZNAME:CEST
DTSTART:20240331T010000
END:DAYLIGHT
BEGIN:STANDARD
TZOFFSETFROM:+0200
TZOFFSETTO:+0100
TZNAME:CET
DTSTART:20241027T010000
END:STANDARD
END:VTIMEZONE
BEGIN:VEVENT
DTSTART;VALUE=DATE:20230307
DTEND;VALUE=DATE:20230308
DTSTAMP:20260422T121021
CREATED:20241128T091225Z
LAST-MODIFIED:20241128T094253Z
UID:73672-1678147200-1678233599@www.teilchenwelt.de
SUMMARY:International Masterclass: Belle II
DESCRIPTION:Wie kommt es\, dass im Universum mehr Materie als Antimaterie zu finden ist? Eine Spur gibt es schon: Eine bestimmte Teilchenart zerfällt nicht zu gleichen Teilen in Materie und Antimaterie\, wie man es eigentlich erwarten würde. Mit dem neuen Belle II-Experiment in Japan\, das 2019 an den Start ging\, versuchen Wissenschaftler eine Antwort auf das Materie-/Antimaterie-Rätsel zu finden. \nIm Kurs werden Physikgrundlagen und der Belle II-Detektor vorgestellt. Im Anschluss arbeiten die Schüler*innen mit echten Daten aus dem Belle II-Experiment. Weitere Höhepunkte sind ein virtueller Rundgang durch das Experiment sowie eine Live-Schaltung zum japanischen Forschungszentrum. \nBitte melden Sie sich hier für die Veranstaltung an:\nindico.hiskp.uni-bonn.de/event/225/
URL:https://www.teilchenwelt.de/event/international-masterclass-belle-ii-2023-03-07-72441/
LOCATION:Physikalisches Institut der Rheinischen Friedrich-Wilhelms-Universität Bonn\, Nußallee 12\, Bonn\, 53115\, Deutschland
CATEGORIES:Masterclass
END:VEVENT
END:VCALENDAR