BEGIN:VCALENDAR
VERSION:2.0
PRODID:-//Teilchenwelt - ECPv6.15.20//NONSGML v1.0//EN
CALSCALE:GREGORIAN
METHOD:PUBLISH
X-ORIGINAL-URL:https://www.teilchenwelt.de
X-WR-CALDESC:Veranstaltungen für Teilchenwelt
REFRESH-INTERVAL;VALUE=DURATION:PT1H
X-Robots-Tag:noindex
X-PUBLISHED-TTL:PT1H
BEGIN:VTIMEZONE
TZID:Europe/Berlin
BEGIN:DAYLIGHT
TZOFFSETFROM:+0100
TZOFFSETTO:+0200
TZNAME:CEST
DTSTART:20220327T010000
END:DAYLIGHT
BEGIN:STANDARD
TZOFFSETFROM:+0200
TZOFFSETTO:+0100
TZNAME:CET
DTSTART:20221030T010000
END:STANDARD
BEGIN:DAYLIGHT
TZOFFSETFROM:+0100
TZOFFSETTO:+0200
TZNAME:CEST
DTSTART:20230326T010000
END:DAYLIGHT
BEGIN:STANDARD
TZOFFSETFROM:+0200
TZOFFSETTO:+0100
TZNAME:CET
DTSTART:20231029T010000
END:STANDARD
BEGIN:DAYLIGHT
TZOFFSETFROM:+0100
TZOFFSETTO:+0200
TZNAME:CEST
DTSTART:20240331T010000
END:DAYLIGHT
BEGIN:STANDARD
TZOFFSETFROM:+0200
TZOFFSETTO:+0100
TZNAME:CET
DTSTART:20241027T010000
END:STANDARD
END:VTIMEZONE
BEGIN:VEVENT
DTSTART;TZID=Europe/Berlin:20230310T100000
DTEND;TZID=Europe/Berlin:20230312T180000
DTSTAMP:20260422T121311
CREATED:20241128T091325Z
LAST-MODIFIED:20241128T094418Z
UID:73992-1678442400-1678644000@www.teilchenwelt.de
SUMMARY:Ausstellung: Urknall unterwegs
DESCRIPTION:Die erste Station der deutschlandweiten Tour von „Urknall unterwegs“ ist Hamburg. Im Rahmen der Ausstellung „Wie alles begann. Von Galaxien\, Quarks und Kollisionen“ ist die mobile Ausstellung auf dem Vorplatz des Museums der Arbeit zu sehen. \n„Urknall unterwegs“ ist eine modulare Ausstellung\, die von Weltmaschine bei DESY in Hamburg in Zusammenarbeit mit Netzwerk Teilchenwelt und Expert:innen aus der Teilchenphysik und Didaktik von der TU Dresden produziert wurde. Das Pop-Up-Modul\, das einen Rundgang durch die Geschichte des Universums\, lustige Spiele und eine interaktive mobile App umfasst\, ist an öffentlichen Orten in ganz Deutschland zu sehen. \nUrknall unterwegs bringt die Teilchenphysik zu den Menschen. Die Besucher:innen haben die Möglichkeit\, in wenigen Schritten eine Zeitreise von der Gegenwart bis zum Urknall zu unternehmen und dabei zu erfahren\, wie die Teilchenphysik unser Verständnis des Universums revolutioniert hat. Sie können etwas über die Menschen erfahren\, die in der Teilchenphysik studieren und arbeiten\, wie in der Teilchenphysik geforscht wird und wie sich diese Forschung auf den Alltag der Gesellschaft ausgewirkt hat. Dazu gibt es thematisch passende Spiele für Groß und Klein. \nGefördert durch das Bundesministerium für Bildung und Forschung (BMBF)\, tourt Urknall unterwegs im Rahmen des an der TU Dresden angesiedelten Wissenschaftskommunikationsprojekts „KONTAKT2“ durch Deutschland.
URL:https://www.teilchenwelt.de/event/ausstellung-urknall-unterwegs-2023-03-10-72968/
LOCATION:Museum der Arbeit Hamburg\, Wiesendamm 3\, Hamburg\, 22305\, Deutschland
CATEGORIES:Ausstellung
END:VEVENT
BEGIN:VEVENT
DTSTART;TZID=Europe/Berlin:20230310T160000
DTEND;TZID=Europe/Berlin:20230310T180000
DTSTAMP:20260422T121311
CREATED:20241128T091401Z
LAST-MODIFIED:20241128T094538Z
UID:74183-1678464000-1678471200@www.teilchenwelt.de
SUMMARY:MINT-AG Zentrum: Workshop Teilchenphysik
DESCRIPTION:Der Workshop Teilchenphysik findet am Schuldorf Bergstrasse in Seeheim-Jugenheim im Rahmen des MINT-AG Zentrum (Stadt Darmstadt\, Landkreis Darmstadt-Dieburg) statt. Er steht interessierten Schülern während des Schuljahres offen.
URL:https://www.teilchenwelt.de/event/mint-ag-zentrum-workshop-teilchenphysik-2023-03-10-72726/
LOCATION:Schuldorf Bergstraße\, Sandstr.\, Seeheim-Jugenheim\, 64342\, Deutschland
CATEGORIES:Workshop
END:VEVENT
END:VCALENDAR