BEGIN:VCALENDAR
VERSION:2.0
PRODID:-//Teilchenwelt - ECPv6.15.20//NONSGML v1.0//EN
CALSCALE:GREGORIAN
METHOD:PUBLISH
X-ORIGINAL-URL:https://www.teilchenwelt.de
X-WR-CALDESC:Veranstaltungen für Teilchenwelt
REFRESH-INTERVAL;VALUE=DURATION:PT1H
X-Robots-Tag:noindex
X-PUBLISHED-TTL:PT1H
BEGIN:VTIMEZONE
TZID:Europe/Berlin
BEGIN:DAYLIGHT
TZOFFSETFROM:+0100
TZOFFSETTO:+0200
TZNAME:CEST
DTSTART:20220327T010000
END:DAYLIGHT
BEGIN:STANDARD
TZOFFSETFROM:+0200
TZOFFSETTO:+0100
TZNAME:CET
DTSTART:20221030T010000
END:STANDARD
BEGIN:DAYLIGHT
TZOFFSETFROM:+0100
TZOFFSETTO:+0200
TZNAME:CEST
DTSTART:20230326T010000
END:DAYLIGHT
BEGIN:STANDARD
TZOFFSETFROM:+0200
TZOFFSETTO:+0100
TZNAME:CET
DTSTART:20231029T010000
END:STANDARD
BEGIN:DAYLIGHT
TZOFFSETFROM:+0100
TZOFFSETTO:+0200
TZNAME:CEST
DTSTART:20240331T010000
END:DAYLIGHT
BEGIN:STANDARD
TZOFFSETFROM:+0200
TZOFFSETTO:+0100
TZNAME:CET
DTSTART:20241027T010000
END:STANDARD
END:VTIMEZONE
BEGIN:VEVENT
DTSTART;VALUE=DATE:20230313
DTEND;VALUE=DATE:20230318
DTSTAMP:20260422T134321
CREATED:20241128T091400Z
LAST-MODIFIED:20241128T094537Z
UID:74178-1678665600-1679097599@www.teilchenwelt.de
SUMMARY:Astroteilchen-Projekttag
DESCRIPTION:Selbst kosmische Teilchen sichtbar machen\, wird in einem Workshop mit Nebelkammern möglich. Wurde mit diesem einfachen Detektor in den 1930er Jahren spektakuläre Entdeckungen gemacht\, findet man Nebelkammern heute vorwiegend in Museen und wissenschaftlichen Ausstellungen. \nNetzwerk Teilchenwelt bietet einen Experimentiersatz zum Selbstbau von Nebelkammern an\, der bei den Standorten für Projekttage ausgeliehen werden kann. Ziel des Projekttages ist das Identifizieren und Beschreiben unterschiedlicher Teilchenspuren. Außerdem erfahren die Teilnehmer\, was kosmische Teilchen sind und wie die Teilchenspuren in der Nebelkammer entstehen.
URL:https://www.teilchenwelt.de/event/astroteilchen-projekttag-2023-03-13-72827/
LOCATION:Gymnasium Bürgerwiese\, Gret-Palucca-Straße 1\, Dresden\, 01069\, Deutschland
CATEGORIES:Workshop
END:VEVENT
BEGIN:VEVENT
DTSTART;VALUE=DATE:20230316
DTEND;VALUE=DATE:20230317
DTSTAMP:20260422T134321
CREATED:20241128T091334Z
LAST-MODIFIED:20241128T094443Z
UID:74033-1678924800-1679011199@www.teilchenwelt.de
SUMMARY:International Masterclass: ATLAS
DESCRIPTION:Eintauchen in die Welt der Teilchenphysik und selbst Daten vom CERN in Genf auswerten: Dazu laden die Schülerforschungstage interessierte Jugendliche ab Klassenstufe 10 ein. Bei den International Masterclasses lernen die TeilnehmerInnen die Forschungsmethoden der Teilchenphysik kennen. Sie identifizieren Elementarteilchen in Teilchenkollisionen und diskutieren ihre Ergebnisse in einer abschließenden Videokonferenz mit Teilnehmern aus anderen Forschungseinrichtungen und dem CERN. Das Programm International Masterclasses findet weltweit an rund 225 Forschungseinrichtungen in 60 Ländern statt. \nBitte melden Sie sich hier für die Veranstaltung an:\ntuebingen@teilchenwelt.de \nBitte melden Sie sich hier für die Veranstaltung an:\ntuebingen@teilchenwelt.de
URL:https://www.teilchenwelt.de/event/international-masterclass-atlas-2023-03-16-72254/
LOCATION:Eberhard-Karls-Universität Tübingen\, Auf der Morgenstelle 14\, Tübingen\, 72076\, Deutschland
CATEGORIES:Masterclass
END:VEVENT
BEGIN:VEVENT
DTSTART;TZID=Europe/Berlin:20230316T090000
DTEND;TZID=Europe/Berlin:20230316T170000
DTSTAMP:20260422T134321
CREATED:20241128T091512Z
LAST-MODIFIED:20241128T094729Z
UID:74550-1678957200-1678986000@www.teilchenwelt.de
SUMMARY:Teilchenphysik-Masterclass
DESCRIPTION:Forschen mit echten Daten aus der Teilchenphysik – das kann man bei einer Masterclass des Netzwerks Teilchenwelt. Was ist kurz nach dem Urknall passiert? Was sind die kleinsten Bausteine der Natur und was ist eigentlich dunkle Materie? Diesen und anderen Fragen gehen Teilchenphysiker in der ganzen Welt nach. Mithilfe von riesigen Teilchenbeschleunigern wie am CERN in Genf gehen sie der Entstehung der Welt auf den Grund und schließen von den kleinsten Teilchen auf die großen Zusammenhänge im Universum. \nBei einer Teilchenphysik-Masterclass lernen Jugendliche im Alter von 15-19 Jahren nach einem einführenden Vortrag\, wie man echte Daten von Teilchenkollisionen vom CERN auswertet und was man dabei heraus finden kann. Sie identifizieren mithilfe von Nachwuchs-Teilchenphysiker/innen selber die Spuren von Quarks\, Elektronen und Co. und können in einem Quiz am Ende der Masterclass ihr Wissen testen. Die Teilnahme erfordert keine Vorkenntnisse – nur Interesse an der Faszination Teilchenphysik.  \nLK Intensivtag (Q2 Physik)
URL:https://www.teilchenwelt.de/event/teilchenphysik-masterclass-2023-03-16-72635/
LOCATION:Universität Münster\, Wilhelm-Klemm-Straße 9\, Münster\, 48149\, Deutschland
CATEGORIES:Masterclass,Workshop
END:VEVENT
END:VCALENDAR