BEGIN:VCALENDAR
VERSION:2.0
PRODID:-//Teilchenwelt - ECPv6.15.20//NONSGML v1.0//EN
CALSCALE:GREGORIAN
METHOD:PUBLISH
X-WR-CALNAME:Teilchenwelt
X-ORIGINAL-URL:https://www.teilchenwelt.de
X-WR-CALDESC:Veranstaltungen für Teilchenwelt
REFRESH-INTERVAL;VALUE=DURATION:PT1H
X-Robots-Tag:noindex
X-PUBLISHED-TTL:PT1H
BEGIN:VTIMEZONE
TZID:Europe/Berlin
BEGIN:DAYLIGHT
TZOFFSETFROM:+0100
TZOFFSETTO:+0200
TZNAME:CEST
DTSTART:20220327T010000
END:DAYLIGHT
BEGIN:STANDARD
TZOFFSETFROM:+0200
TZOFFSETTO:+0100
TZNAME:CET
DTSTART:20221030T010000
END:STANDARD
BEGIN:DAYLIGHT
TZOFFSETFROM:+0100
TZOFFSETTO:+0200
TZNAME:CEST
DTSTART:20230326T010000
END:DAYLIGHT
BEGIN:STANDARD
TZOFFSETFROM:+0200
TZOFFSETTO:+0100
TZNAME:CET
DTSTART:20231029T010000
END:STANDARD
BEGIN:DAYLIGHT
TZOFFSETFROM:+0100
TZOFFSETTO:+0200
TZNAME:CEST
DTSTART:20240331T010000
END:DAYLIGHT
BEGIN:STANDARD
TZOFFSETFROM:+0200
TZOFFSETTO:+0100
TZNAME:CET
DTSTART:20241027T010000
END:STANDARD
END:VTIMEZONE
BEGIN:VEVENT
DTSTART;VALUE=DATE:20230320
DTEND;VALUE=DATE:20230325
DTSTAMP:20260422T121021
CREATED:20241128T091400Z
LAST-MODIFIED:20241128T094537Z
UID:74176-1679270400-1679702399@www.teilchenwelt.de
SUMMARY:DPG-Tagung in Dresden
DESCRIPTION:Vorträge\, Infostand\, Ausstellung\, Stammtisch der Standorte und Vermittler:innen: indico.cern.ch/event/1254887/
URL:https://www.teilchenwelt.de/event/dpg-tagung-in-dresden-2023-03-20-72518/
LOCATION:Technische Universität Dresden\, Zellescher Weg 19\, Dresden\, 01069\, Deutschland
END:VEVENT
BEGIN:VEVENT
DTSTART;TZID=Europe/Berlin:20230320T100000
DTEND;TZID=Europe/Berlin:20230321T170000
DTSTAMP:20260422T121021
CREATED:20241128T091535Z
LAST-MODIFIED:20241128T094746Z
UID:74671-1679306400-1679418000@www.teilchenwelt.de
SUMMARY:Ausstellung: Urknall unterwegs
DESCRIPTION:Das Netzwerk Teilchenwelt zeigt anlässlich der DPG-Tagungen vier Tage lang die Pop-up-Ausstellung „Urknall unterwegs“ in Dresden. Am 22. März steht sie von 10 bis 17 Uhr am Kulturpalast\, am 20.\, 21. und 23. März vor dem Hörsaalzentrum der TU Dresden. Die Mitmach- und Lernausstellung bringt Interessierten aller Altersgruppen die komplexe Welt der Teilchenphysik näher: Sie vermittelt\, wie und warum hier geforscht wird und vor allem\, wie sich das auf unseren Alltag und die Gesellschaft auswirkt. Zu erleben sind dabei vor allem Menschen\, die in der Teilchenphysik tätig sind. Dabei geht es auch spielerisch zu: Beim Teilchen-Twister\, dem Aufbau eines Lego-Universums oder Hadronen-XL-Jenga lassen sich Zusammenhänge begreifen und verstehen. Immer ansprechbar dabei sind die Urknall-Guides – Promovierende der TU Dresden\, die in der Teilchenphysik forschen und aus ihrer Arbeitspraxis berichten. Der Eintritt ist frei! \nGespräche bei Urknall unterwegs: \nDonnerstag\, 23. März\, 14:30-15:30 Uhr\, Prof. Michael Kobel von der TU Dresden informiert über die Entstehung der Ausstellung und beantwortet Fragen zur Teilchenphysik.\nDonnerstag\, 23. März\, 17-18 Uhr\, Prof. Christian Stegmann vom Deutschen Elektronen-Synchrotron DESY informiert zum Deutschen Zentrum für Astrophysik DZA\, das in der Lausitz errichtet wird.
URL:https://www.teilchenwelt.de/event/ausstellung-urknall-unterwegs-2023-03-20-72211/
LOCATION:Hörsaalzentrum der TU Dresden\, Bergstraße 64\, Dresden\, 01069
CATEGORIES:Ausstellung
END:VEVENT
BEGIN:VEVENT
DTSTART;VALUE=DATE:20230321
DTEND;VALUE=DATE:20230322
DTSTAMP:20260422T121021
CREATED:20241128T091508Z
LAST-MODIFIED:20241128T094727Z
UID:74526-1679356800-1679443199@www.teilchenwelt.de
SUMMARY:International Masterclass: ATLAS
DESCRIPTION:Eintauchen in die Welt der Teilchenphysik und selbst Daten vom CERN in Genf auswerten: Dazu laden die Schülerforschungstage interessierte Jugendliche ab Klassenstufe 10 ein. Bei den International Masterclasses lernen die TeilnehmerInnen die Forschungsmethoden der Teilchenphysik kennen. Sie identifizieren Elementarteilchen in Teilchenkollisionen und diskutieren ihre Ergebnisse in einer abschließenden Videokonferenz mit Teilnehmern aus anderen Forschungseinrichtungen und dem CERN. Das Programm International Masterclasses findet weltweit an rund 225 Forschungseinrichtungen in 60 Ländern statt. \nBitte melden Sie sich hier für die Veranstaltung an:\ntuebingen@teilchenwelt.de \nBitte melden Sie sich hier für die Veranstaltung an:\ntuebingen@teilchenwelt.de
URL:https://www.teilchenwelt.de/event/international-masterclass-atlas-2023-03-21-72254/
LOCATION:Eberhard-Karls-Universität Tübingen\, Auf der Morgenstelle 14\, Tübingen\, 72076\, Deutschland
CATEGORIES:Masterclass
END:VEVENT
END:VCALENDAR