BEGIN:VCALENDAR
VERSION:2.0
PRODID:-//Teilchenwelt - ECPv6.15.20//NONSGML v1.0//EN
CALSCALE:GREGORIAN
METHOD:PUBLISH
X-ORIGINAL-URL:https://www.teilchenwelt.de
X-WR-CALDESC:Veranstaltungen für Teilchenwelt
REFRESH-INTERVAL;VALUE=DURATION:PT1H
X-Robots-Tag:noindex
X-PUBLISHED-TTL:PT1H
BEGIN:VTIMEZONE
TZID:Europe/Berlin
BEGIN:DAYLIGHT
TZOFFSETFROM:+0100
TZOFFSETTO:+0200
TZNAME:CEST
DTSTART:20220327T010000
END:DAYLIGHT
BEGIN:STANDARD
TZOFFSETFROM:+0200
TZOFFSETTO:+0100
TZNAME:CET
DTSTART:20221030T010000
END:STANDARD
BEGIN:DAYLIGHT
TZOFFSETFROM:+0100
TZOFFSETTO:+0200
TZNAME:CEST
DTSTART:20230326T010000
END:DAYLIGHT
BEGIN:STANDARD
TZOFFSETFROM:+0200
TZOFFSETTO:+0100
TZNAME:CET
DTSTART:20231029T010000
END:STANDARD
BEGIN:DAYLIGHT
TZOFFSETFROM:+0100
TZOFFSETTO:+0200
TZNAME:CEST
DTSTART:20240331T010000
END:DAYLIGHT
BEGIN:STANDARD
TZOFFSETFROM:+0200
TZOFFSETTO:+0100
TZNAME:CET
DTSTART:20241027T010000
END:STANDARD
END:VTIMEZONE
BEGIN:VEVENT
DTSTART;VALUE=DATE:20230501
DTEND;VALUE=DATE:20230616
DTSTAMP:20260422T083957
CREATED:20241128T091325Z
LAST-MODIFIED:20241128T094418Z
UID:73991-1682899200-1686873599@www.teilchenwelt.de
SUMMARY:BEWERBUNGSZEITRAUM: Projektwochen am CERN
DESCRIPTION:Selber forschen am CERN – das können im Herbst zehn Jugendliche bei den Projektwochen des Netzwerks Teilchenwelt. Für zwei Wochen werden die TeilnehmerInnen eingeladen\, praktisch zu erleben\, wie Forschung am größten Experiment der Welt funktioniert und an eigenen Projekten zu arbeiten. \nWas passiert in den zwei Projektwochen? \n\nFundierter Einblick: Zwei Wochen Forschung am CERN hautnah erleben.\nSelber forschen: Arbeite in einer Arbeitsgruppe am CERN an Deinem eigenen Projekt.\nLernen und staunen: Besichtigungen ausgewählter CERN-Forschungsbereiche.\n\nDie Teilnehmer/innen wohnen auf dem Gelände des CERN und haben rund um ihre Aufgaben Zeit\, Genf und die Umgebung kennenzulernen. Die Kosten für Anreise\, Unterkunft und Verpflegung übernimmt das Netzwerk Teilchenwelt\, Ausgaben für Freizeitaktivitäten müssen selber getragen werden. \nWer kann sich bewerben?\nIhr könnt Euch bewerben\, wenn Ihr die folgenden Programmstufen des Netzwerk Teilchenwelt durchlaufen habt: \n\nTeilnahme an einer Astro-/Teilchenphysik-Masterclass\, International Masterclass oder an Experimenten mit kosmischen Teilchen (Basisprogramm)\nAktivität als Tutor/in bei Masterclasses oder Veranstaltungen mit Experimenten mit kosmischen Teilchen\, Mitarbeit bei anderen Aktivitäten am lokalen Netzwerk-Standort\, Engagement an der eigenen Schule (z.B. Organisation einer Masterclass\, Halten eines Vortrages über die Astro-/Teilchenphysik)\, intensive Beschäftigung mit Themen der Astro-/Teilchenphysik (z.B. Projektwoche an der Schule\, Praktikum am lokalen Standort) o.ä. (Qualifizierungsprogramm)\nTeilnahme an einem CERN-Workshop (Vertiefungsprogramm).\nAußerdem müsst Ihr zum Zeitpunkt der Projektwochen mindestens 16 Jahre alt sein\,  zur Schule gehen (in Ausnahmen Studium 1. Semester) und nachweisbar an einer Forschungsarbeit schreiben oder diese planen (z.B. BELL\, 5. Prüfungskomponente\, besondere Lernleistung\, „Jugend forscht“-Arbeit o.ä.). \n\nWichtig: Ihr müsst mit eurer Schule und/oder mit einem lokalen Forschungsinstitut das Thema eurer Forschungsarbeit sowie die Betreuung in der Vor- und Nachbereitung für die Projektwochen abstimmen und die Betreuung während der Zeit am CERN sicherstellen. Wendet Euch diesbezüglich möglichst frühzeitig an Eure lokalen Netzwerk-Ansprechpartner und/oder eine Lehrkraft. \nBitte melden Sie sich hier für die Veranstaltung an:\nindico.cern.ch/event/1269864/
URL:https://www.teilchenwelt.de/event/bewerbungszeitraum-projektwochen-am-cern-2023-05-01-73402/
LOCATION:CERN\, Route de Meyrin 385\, Genf\, 1211\, Schweiz
CATEGORIES:Workshop
END:VEVENT
END:VCALENDAR