BEGIN:VCALENDAR
VERSION:2.0
PRODID:-//Teilchenwelt - ECPv6.15.20//NONSGML v1.0//EN
CALSCALE:GREGORIAN
METHOD:PUBLISH
X-ORIGINAL-URL:https://www.teilchenwelt.de
X-WR-CALDESC:Veranstaltungen für Teilchenwelt
REFRESH-INTERVAL;VALUE=DURATION:PT1H
X-Robots-Tag:noindex
X-PUBLISHED-TTL:PT1H
BEGIN:VTIMEZONE
TZID:Europe/Berlin
BEGIN:DAYLIGHT
TZOFFSETFROM:+0100
TZOFFSETTO:+0200
TZNAME:CEST
DTSTART:20220327T010000
END:DAYLIGHT
BEGIN:STANDARD
TZOFFSETFROM:+0200
TZOFFSETTO:+0100
TZNAME:CET
DTSTART:20221030T010000
END:STANDARD
BEGIN:DAYLIGHT
TZOFFSETFROM:+0100
TZOFFSETTO:+0200
TZNAME:CEST
DTSTART:20230326T010000
END:DAYLIGHT
BEGIN:STANDARD
TZOFFSETFROM:+0200
TZOFFSETTO:+0100
TZNAME:CET
DTSTART:20231029T010000
END:STANDARD
BEGIN:DAYLIGHT
TZOFFSETFROM:+0100
TZOFFSETTO:+0200
TZNAME:CEST
DTSTART:20240331T010000
END:DAYLIGHT
BEGIN:STANDARD
TZOFFSETFROM:+0200
TZOFFSETTO:+0100
TZNAME:CET
DTSTART:20241027T010000
END:STANDARD
END:VTIMEZONE
BEGIN:VEVENT
DTSTART;VALUE=DATE:20230615
DTEND;VALUE=DATE:20230620
DTSTAMP:20260422T065617
CREATED:20241128T091251Z
LAST-MODIFIED:20241128T094329Z
UID:73812-1686787200-1687219199@www.teilchenwelt.de
SUMMARY:Astroteilchen-Projekttag
DESCRIPTION:Selbst kosmische Teilchen sichtbar machen\, wird in einem Workshop mit Nebelkammern möglich. Wurde mit diesem einfachen Detektor in den 1930er Jahren spektakuläre Entdeckungen gemacht\, findet man Nebelkammern heute vorwiegend in Museen und wissenschaftlichen Ausstellungen. \nNetzwerk Teilchenwelt bietet einen Experimentiersatz zum Selbstbau von Nebelkammern an\, der bei den Standorten für Projekttage ausgeliehen werden kann. Ziel des Projekttages ist das Identifizieren und Beschreiben unterschiedlicher Teilchenspuren. Außerdem erfahren die Teilnehmer\, was kosmische Teilchen sind und wie die Teilchenspuren in der Nebelkammer entstehen.
URL:https://www.teilchenwelt.de/event/astroteilchen-projekttag-2023-06-15-73395/
LOCATION:Hoffmann-von-Fallersleben Schule\, Braunschweig\, Sackring 15\, Braunschweig\, 38118\, Deutschland
CATEGORIES:Workshop
END:VEVENT
BEGIN:VEVENT
DTSTART;TZID=Europe/Berlin:20230619T100000
DTEND;TZID=Europe/Berlin:20230619T170000
DTSTAMP:20260422T065617
CREATED:20241128T091459Z
LAST-MODIFIED:20241128T094722Z
UID:74476-1687168800-1687194000@www.teilchenwelt.de
SUMMARY:Ausstellung: Urknall unterwegs
DESCRIPTION:„Urknall unterwegs“ ist eine mobile Ausstellung\, die von Netzwerk Teilchenwelt in Zusammenarbeit mit Weltmaschine bei DESY in Hamburg sowie Expert:innen aus der Teilchenphysik und Didaktik von der TU Dresden entwickelt wurde. Urknall unterwegs wird gefördert durch das Bundesministerium für Bildung und Forschung (BMBF) und tourt im Rahmen des an der TU Dresden angesiedelten Wissenschaftskommunikationsprojekts „KONTAKT2“ durch Deutschland. Das Pop-Up-Modul\, das einen Rundgang durch die Geschichte des Universums\, lustige Spiele und eine interaktive mobile App umfasst\, ist an öffentlichen Orten in ganz Deutschland zu sehen. \nUrknall unterwegs bringt die Teilchenphysik zu den Menschen. Die Besucher:innen haben die Möglichkeit\, in wenigen Schritten eine Zeitreise von der Gegenwart bis zum Urknall zu unternehmen und dabei zu erfahren\, wie die Teilchenphysik unser Verständnis des Universums revolutioniert hat. Sie können etwas über die Menschen erfahren\, die in der Teilchenphysik studieren und arbeiten\, wie in der Teilchenphysik geforscht wird und wie sich diese Forschung auf den Alltag der Gesellschaft ausgewirkt hat. Dazu gibt es thematisch passende Spiele für Groß und Klein. \nDer Urknall unterwegs dockt bei ausgewählten Stationen an die MS Wissenschaft an. Auftakt ist in der Hamburger Hafencity.\nms-wissenschaft.de/de/wissenschaftsjahr/mitmachen/
URL:https://www.teilchenwelt.de/event/ausstellung-urknall-unterwegs-2023-06-19-73543/
LOCATION:Kaiserkai/Sandtorhafen\, Hamburg\, Am Kaiserkai\, Hamburg\, 20457\, Deutschland
CATEGORIES:Ausstellung
END:VEVENT
BEGIN:VEVENT
DTSTART;TZID=Europe/Berlin:20230619T170000
DTEND;TZID=Europe/Berlin:20230619T180000
DTSTAMP:20260422T065617
CREATED:20241128T091530Z
LAST-MODIFIED:20241128T094743Z
UID:74645-1687194000-1687197600@www.teilchenwelt.de
SUMMARY:Impulsvortrag & Fragerunde: Mein Weg in die Kern- und Teilchenphysik
DESCRIPTION:Inhalt: In der letzten Fellow-Umfrage habt ihr euch mehr Kontakt zu Forschungsgruppen wünscht\, weil ihr euch dadurch eine Art Mentoring erhofft. Diesem Wunsch kommen wir gerne nach und möchten ein neues bundesweites\, online Fellow-Format ins Leben rufen: „Mein Weg in die Kern- und Teilchenphysik“. \nAm Montag\, 19.6.2023\, von 17-18 Uhr laden wir euch herzlich zur ersten Runde von „Mein Weg in die Kern- und Teilchenphysik“ mit Max Stange\, Doktorand an der Technischen Universität Dresden\, ein. Als Impuls wird Max zu Beginn kurz über seinen Weg in die Teilchenphysik erzählen und dann könnt ihr ihn mit euren Fragen löchern. \nBitte melden Sie sich hier für die Veranstaltung an:\nindico.cern.ch/event/1293614/
URL:https://www.teilchenwelt.de/event/impulsvortrag-fragerunde-mein-weg-in-die-kern-und-teilchenphysik-2023-06-19-72493/
LOCATION:Online-Meeting-Raum\, Dresden\, 01069\, Deutschland
CATEGORIES:Vortrag
END:VEVENT
END:VCALENDAR