BEGIN:VCALENDAR
VERSION:2.0
PRODID:-//Teilchenwelt - ECPv6.15.20//NONSGML v1.0//EN
CALSCALE:GREGORIAN
METHOD:PUBLISH
X-ORIGINAL-URL:https://www.teilchenwelt.de
X-WR-CALDESC:Veranstaltungen für Teilchenwelt
REFRESH-INTERVAL;VALUE=DURATION:PT1H
X-Robots-Tag:noindex
X-PUBLISHED-TTL:PT1H
BEGIN:VTIMEZONE
TZID:Europe/Berlin
BEGIN:DAYLIGHT
TZOFFSETFROM:+0100
TZOFFSETTO:+0200
TZNAME:CEST
DTSTART:20220327T010000
END:DAYLIGHT
BEGIN:STANDARD
TZOFFSETFROM:+0200
TZOFFSETTO:+0100
TZNAME:CET
DTSTART:20221030T010000
END:STANDARD
BEGIN:DAYLIGHT
TZOFFSETFROM:+0100
TZOFFSETTO:+0200
TZNAME:CEST
DTSTART:20230326T010000
END:DAYLIGHT
BEGIN:STANDARD
TZOFFSETFROM:+0200
TZOFFSETTO:+0100
TZNAME:CET
DTSTART:20231029T010000
END:STANDARD
BEGIN:DAYLIGHT
TZOFFSETFROM:+0100
TZOFFSETTO:+0200
TZNAME:CEST
DTSTART:20240331T010000
END:DAYLIGHT
BEGIN:STANDARD
TZOFFSETFROM:+0200
TZOFFSETTO:+0100
TZNAME:CET
DTSTART:20241027T010000
END:STANDARD
END:VTIMEZONE
BEGIN:VEVENT
DTSTART;TZID=Europe/Berlin:20230629T090000
DTEND;TZID=Europe/Berlin:20230629T170000
DTSTAMP:20260422T051903
CREATED:20241128T091607Z
LAST-MODIFIED:20241128T094804Z
UID:74838-1688029200-1688058000@www.teilchenwelt.de
SUMMARY:Teilchenphysik-Masterclass
DESCRIPTION:Forschen mit echten Daten aus der Teilchenphysik – das kann man bei einer Masterclass des Netzwerks Teilchenwelt. Was ist kurz nach dem Urknall passiert? Was sind die kleinsten Bausteine der Natur und was ist eigentlich dunkle Materie? Diesen und anderen Fragen gehen Teilchenphysiker in der ganzen Welt nach. Mithilfe von riesigen Teilchenbeschleunigern wie am CERN in Genf gehen sie der Entstehung der Welt auf den Grund und schließen von den kleinsten Teilchen auf die großen Zusammenhänge im Universum.  \nBei einer Teilchenphysik-Masterclass lernen Jugendliche im Alter von 15-19 Jahren nach einem einführenden Vortrag\, wie man echte Daten von Teilchenkollisionen vom CERN auswertet und was man dabei heraus finden kann. Sie identifizieren mithilfe von Nachwuchs-Teilchenphysiker/innen selber die Spuren von Quarks\, Elektronen und Co. und können in einem Quiz am Ende der Masterclass ihr Wissen testen. Die Teilnahme erfordert keine Vorkenntnisse – nur Interesse an der Faszination Teilchenphysik.  \nFür diese Veranstaltung ist keine Anmeldung möglich. Wenn Sie an Ihrer Schule eine Teilchenphysik-Masterclass durchführen möchten oder an einer anderen Veranstaltung teilnehmen möchten\, wenden Sie sich bitte an Ihren lokalen Standort-Kontakt von Netzwerk Teilchenwelt: www.teilchenwelt.de/ueber-uns/standorte/ und wir organisieren eine Veranstaltung für Sie!
URL:https://www.teilchenwelt.de/event/teilchenphysik-masterclass-2023-06-29-73284/
LOCATION:Forschungs- und Technologie-Zentrum Detektorphysik\, Kreuzbergweg 24\, Bonn\, 53115\, Deutschland
CATEGORIES:Masterclass,Workshop
END:VEVENT
BEGIN:VEVENT
DTSTART;TZID=Europe/Berlin:20230629T100000
DTEND;TZID=Europe/Berlin:20230629T180000
DTSTAMP:20260422T051903
CREATED:20241128T091537Z
LAST-MODIFIED:20241128T094747Z
UID:74683-1688032800-1688061600@www.teilchenwelt.de
SUMMARY:Ausstellung: Urknall unterwegs in Bochum
DESCRIPTION:„Urknall unterwegs“ ist eine mobile Ausstellung\, die von Netzwerk Teilchenwelt in Zusammenarbeit mit Weltmaschine bei DESY in Hamburg sowie Expert:innen aus der Teilchenphysik und Didaktik von der TU Dresden entwickelt wurde. Urknall unterwegs wird gefördert durch das Bundesministerium für Bildung und Forschung (BMBF) und tourt im Rahmen des an der TU Dresden angesiedelten Wissenschaftskommunikationsprojekts „KONTAKT2“ durch Deutschland. Das Pop-Up-Modul\, das einen Rundgang durch die Geschichte des Universums\, lustige Spiele und eine interaktive mobile App umfasst\, ist an öffentlichen Orten in ganz Deutschland zu sehen. \nUrknall unterwegs bringt die Teilchenphysik zu den Menschen. Die Besucher:innen haben die Möglichkeit\, in wenigen Schritten eine Zeitreise von der Gegenwart bis zum Urknall zu unternehmen und dabei zu erfahren\, wie die Teilchenphysik unser Verständnis des Universums revolutioniert hat. Sie können etwas über die Menschen erfahren\, die in der Teilchenphysik studieren und arbeiten\, wie in der Teilchenphysik geforscht wird und wie sich diese Forschung auf den Alltag der Gesellschaft ausgewirkt hat. Dazu gibt es thematisch passende Spiele für Groß und Klein. \nDie Ausstellung findet in Kooperation mit der Stadt Bochum und der Ruhr Universität Bochum statt.
URL:https://www.teilchenwelt.de/event/ausstellung-urknall-unterwegs-in-bochum-2023-06-29-72808/
LOCATION:Rathausplatz\, Willy-Brandt-Platz\, Bochum\, 44787\, Deutschland
CATEGORIES:Ausstellung
END:VEVENT
BEGIN:VEVENT
DTSTART;TZID=Europe/Berlin:20230629T170000
DTEND;TZID=Europe/Berlin:20230629T190000
DTSTAMP:20260422T051903
CREATED:20241128T091321Z
LAST-MODIFIED:20241128T094416Z
UID:73968-1688058000-1688065200@www.teilchenwelt.de
SUMMARY:Teilchenphysik-Stammtisch für Lehrkräfte
DESCRIPTION:Am Institut für Kern- und Teilchenphysik an der TU Dresden findet der  Teilchenphysik-Stammtisch Sachsen statt. Der Stammtisch ist eine regelmäßige Zusammenkunft (viermal pro Jahr) interessierter Lehrkräfte in Sachsen und hat zum Ziel\, Erfahrungsaustausch und Information zu (Astro-)Teilchenphysik im Unterricht zu ermöglichen.\nWer Interesse hat\, dazu zu kommen\, ist herzlich eingeladen!\nBitte melden Sie sich dafür per Mail an: mail@teilchenwelt.de.
URL:https://www.teilchenwelt.de/event/teilchenphysik-stammtisch-fuer-lehrkraefte-2023-06-29-72518/
LOCATION:Technische Universität Dresden\, Zellescher Weg 19\, Dresden\, 01069\, Deutschland
CATEGORIES:Fortbildung,Workshop
END:VEVENT
END:VCALENDAR