BEGIN:VCALENDAR
VERSION:2.0
PRODID:-//Teilchenwelt - ECPv6.15.20//NONSGML v1.0//EN
CALSCALE:GREGORIAN
METHOD:PUBLISH
X-ORIGINAL-URL:https://www.teilchenwelt.de
X-WR-CALDESC:Veranstaltungen für Teilchenwelt
REFRESH-INTERVAL;VALUE=DURATION:PT1H
X-Robots-Tag:noindex
X-PUBLISHED-TTL:PT1H
BEGIN:VTIMEZONE
TZID:Europe/Berlin
BEGIN:DAYLIGHT
TZOFFSETFROM:+0100
TZOFFSETTO:+0200
TZNAME:CEST
DTSTART:20220327T010000
END:DAYLIGHT
BEGIN:STANDARD
TZOFFSETFROM:+0200
TZOFFSETTO:+0100
TZNAME:CET
DTSTART:20221030T010000
END:STANDARD
BEGIN:DAYLIGHT
TZOFFSETFROM:+0100
TZOFFSETTO:+0200
TZNAME:CEST
DTSTART:20230326T010000
END:DAYLIGHT
BEGIN:STANDARD
TZOFFSETFROM:+0200
TZOFFSETTO:+0100
TZNAME:CET
DTSTART:20231029T010000
END:STANDARD
BEGIN:DAYLIGHT
TZOFFSETFROM:+0100
TZOFFSETTO:+0200
TZNAME:CEST
DTSTART:20240331T010000
END:DAYLIGHT
BEGIN:STANDARD
TZOFFSETFROM:+0200
TZOFFSETTO:+0100
TZNAME:CET
DTSTART:20241027T010000
END:STANDARD
END:VTIMEZONE
BEGIN:VEVENT
DTSTART;TZID=Europe/Berlin:20230922T160000
DTEND;TZID=Europe/Berlin:20230922T180000
DTSTAMP:20260422T032653
CREATED:20241128T091355Z
LAST-MODIFIED:20241128T094526Z
UID:74146-1695398400-1695405600@www.teilchenwelt.de
SUMMARY:MINT-AG Zentrum: Workshop Teilchenphysik
DESCRIPTION:Der Workshop Teilchenphysik findet am Schuldorf Bergstrasse in Seeheim-Jugenheim im Rahmen des MINT-AG Zentrum (Stadt Darmstadt\, Landkreis Darmstadt-Dieburg) statt. Er steht interessierten Schülern während des Schuljahres offen.
URL:https://www.teilchenwelt.de/event/mint-ag-zentrum-workshop-teilchenphysik-2023-09-22-72726/
LOCATION:Schuldorf Bergstraße\, Sandstr.\, Seeheim-Jugenheim\, 64342\, Deutschland
CATEGORIES:Workshop
END:VEVENT
END:VCALENDAR