BEGIN:VCALENDAR
VERSION:2.0
PRODID:-//Teilchenwelt - ECPv6.15.20//NONSGML v1.0//EN
CALSCALE:GREGORIAN
METHOD:PUBLISH
X-WR-CALNAME:Teilchenwelt
X-ORIGINAL-URL:https://www.teilchenwelt.de
X-WR-CALDESC:Veranstaltungen für Teilchenwelt
REFRESH-INTERVAL;VALUE=DURATION:PT1H
X-Robots-Tag:noindex
X-PUBLISHED-TTL:PT1H
BEGIN:VTIMEZONE
TZID:Europe/Berlin
BEGIN:DAYLIGHT
TZOFFSETFROM:+0100
TZOFFSETTO:+0200
TZNAME:CEST
DTSTART:20220327T010000
END:DAYLIGHT
BEGIN:STANDARD
TZOFFSETFROM:+0200
TZOFFSETTO:+0100
TZNAME:CET
DTSTART:20221030T010000
END:STANDARD
BEGIN:DAYLIGHT
TZOFFSETFROM:+0100
TZOFFSETTO:+0200
TZNAME:CEST
DTSTART:20230326T010000
END:DAYLIGHT
BEGIN:STANDARD
TZOFFSETFROM:+0200
TZOFFSETTO:+0100
TZNAME:CET
DTSTART:20231029T010000
END:STANDARD
BEGIN:DAYLIGHT
TZOFFSETFROM:+0100
TZOFFSETTO:+0200
TZNAME:CEST
DTSTART:20240331T010000
END:DAYLIGHT
BEGIN:STANDARD
TZOFFSETFROM:+0200
TZOFFSETTO:+0100
TZNAME:CET
DTSTART:20241027T010000
END:STANDARD
END:VTIMEZONE
BEGIN:VEVENT
DTSTART;TZID=Europe/Berlin:20231107T100000
DTEND;TZID=Europe/Berlin:20231107T143000
DTSTAMP:20260421T220428
CREATED:20241128T091421Z
LAST-MODIFIED:20241128T094603Z
UID:74282-1699351200-1699367400@www.teilchenwelt.de
SUMMARY:Astroteilchenphysik-Masterclass
DESCRIPTION:Arbeiten wie Astroteilchenphysiker:innen – das kann man bei einer Masterclass des Netzwerk Teilchenwelt.  \nWie und wo werden kosmische Teilchen erzeugt? Warum können sie z.T. so extrem hohe Energien besitzen. Und gibt es dunkle Materie? Diesen und anderen Fragen gehen Astroteilchenphysiker:innen in der ganzen Welt nach. Mithilfe von riesigen Experimenten wie z.B. dem Pierre-Auger-Observatorium in der Pampa Amarilla in Argentinien gehen sie der Entstehung der Welt auf den Grund und schließen von den kleinsten Teilchen auf die großen Zusammenhänge im Universum.  \nBei einer Astroteilchen-Masterclass lernen Jugendliche im Alter von 15-19 Jahren nach einem einführenden Vortrag\, wie man kosmische Teilchen messen und untersuchen kann. Nachwuchs-Astroteilchenphysiker:innen helfen dabei\, echte Messdaten zu analysieren und zu interpretieren\, was sie uns über das Universum verraten. Die Teilnahme erfordert keine Vorkenntnisse – nur Interesse an dem Thema Astroteilchenphysik. \nIhr wolltet schon immer mal Teilchenspuren sehen und Teilchen aus dem Kosmos messen? Bei einer Masterclass werdet ihr Beides erleben. Baut selbst eine Nebelkammer und taucht in die Welt der Teilchenphysik ein!  \nBitte melden Sie sich hier für die Veranstaltung an:\nwuerzburg@teilchenwelt.de
URL:https://www.teilchenwelt.de/event/astroteilchenphysik-masterclass-2023-11-07-72263/
LOCATION:Julius-Maximilians-Universität Würzburg\, Emil-Hilb-Weg 22\, Würzburg\, 97074\, Deutschland
CATEGORIES:Woche der Teilchenwelt
END:VEVENT
BEGIN:VEVENT
DTSTART;TZID=Europe/Berlin:20231107T150000
DTEND;TZID=Europe/Berlin:20231107T170000
DTSTAMP:20260421T220428
CREATED:20241128T091340Z
LAST-MODIFIED:20241128T094446Z
UID:74067-1699369200-1699376400@www.teilchenwelt.de
SUMMARY:Infostand zum Helmholtz-Institut
DESCRIPTION:Schaut vorbei und entdeckt die Welt der Teilchenphysik am Helmholtz-Institut Jena! Ihr könnt einem Röntgenstreuexperiment folgen\, eine Nebelkammer austesten und viel Spannendes über die Forschung am HI Jena und über das Institut selbst lernen.
URL:https://www.teilchenwelt.de/event/infostand-zum-helmholtz-institut-2023-11-07-73267/
LOCATION:Helmholtz-Institut Jena\, Fraunhoferstraße 8\, Jena\, 07743\, Deutschland
CATEGORIES:Ausstellung,Woche der Teilchenwelt
END:VEVENT
BEGIN:VEVENT
DTSTART;TZID=Europe/Berlin:20231107T163000
DTEND;TZID=Europe/Berlin:20231107T183000
DTSTAMP:20260421T220428
CREATED:20241128T091556Z
LAST-MODIFIED:20241128T094758Z
UID:74775-1699374600-1699381800@www.teilchenwelt.de
SUMMARY:Nebelkammer-Workshop
DESCRIPTION:Selbst kosmische Teilchen sichtbar machen wird in einem Workshop mit Nebelkammern möglich. Wurden mit diesem einfachen Detektor in den 1930er Jahren spektakuläre Entdeckungen gemacht\, findet man Nebelkammern heute vorwiegend in Museen und wissenschaftlichen Ausstellungen. \nNetzwerk Teilchenwelt bietet einen Experimentiersatz zum Selbstbau von Nebelkammern an. Ziel des Workshops ist das Identifizieren und Beschreiben unterschiedlicher Teilchenspuren. Außerdem erfahren die Teilnehmenden\, was kosmische Teilchen sind und wie die Teilchenspuren in der Nebelkammer entstehen. \nNebelkammer-Workshop – Einen Teilchendetektor selber bauen!\nMit einem selbstgebauten Detektor Teilchen entdecken! \nDer Nebelkammer-Workshop ist eine praktisch angelegte Veranstaltung\, bei der die Teilnehmer:innen die Möglichkeit bekommen\, selbst einen Teilchendetektor zu bauen und mit diesem Teilchen zu identifizieren. Im Workshop wird vermittelt\, welche Teilchen uns aus dem Weltall erreichen\, aus welchen Teilchen die „kosmische Strahlung“ besteht und welche Teilchen es bis auf die Erdoberfläche schaffen. Anhand der Nebelkammer werden die Grundprinzipien eines Teilchendetektors erklärt und vermittelt\, wie sich verschiedene Teilcheneigenschaften bestimmen lassen. Mit einem Selbstbaukasten können die Teilnehmer:innen eigenständig eine Nebelkammer bauen und darin Teilchenspuren beobachten. Welche Spur zu welchem Teilchen gehört\, ist dabei eine spannende Frage\, welche die Teilnehmer:innen am Ende des Workshops selbst beantworten können. \nBitte melden Sie sich hier für die Veranstaltung an:\nbochum@teilchenwelt.de
URL:https://www.teilchenwelt.de/event/nebelkammer-workshop-2023-11-07-73092/
LOCATION:Ruhr-Universität Bochum\, Universitätsstraße 150\, Bochum\, 44780\, Deutschland
CATEGORIES:Woche der Teilchenwelt
END:VEVENT
BEGIN:VEVENT
DTSTART;TZID=Europe/Berlin:20231107T180000
DTEND;TZID=Europe/Berlin:20231107T193000
DTSTAMP:20260421T220428
CREATED:20241128T091505Z
LAST-MODIFIED:20241128T094725Z
UID:74505-1699380000-1699385400@www.teilchenwelt.de
SUMMARY:Abendvortrag: Besteht die Dunkle Materie aus Schwarzen Löchern?
DESCRIPTION:Prof. Dr. Günther Hasinger\, designierter Gründungsdirektor des Deutschen Zentrums für Astrophysik\, Universitätsprofessor an der TU Dresden und leitender Wissenschaftler bei DESY in Zeuthen\, hält einen öffentlichen Vortrag in der Woche der Teilchenwelt. \nDie kosmische Röntgen-Hintergrundstrahlung konnte fast vollständig in diskrete Objekte aufgelöst werden\, hauptsächlich vom Wachstum massereicher Schwarzer Löcher im Universum. Aus der Korrelation von Fluktuationen im Röntgen- und Infrarothintergrund ergaben sich jedoch vor einigen Jahren Hinweise auf eine neue Population von Schwarzen Löchern aus der Frühzeit des Universums. Ebenso wurden Quasare entdeckt\, in deren Zentrum erstaunlich massereiche Schwarze Löcher bereits kurz nach dem Urknall entstanden sind. Die Entdeckung von Gravitationswellen von der Vereinigung von Paaren sehr schwerer\, scheinbar nicht-rotierender stellarer Schwarzer Löcher stellt ein weiteres Rätsel dar. Jüngst wurden mit Hilfe des Mikro-Linsen- Effekts und der Entfernungsbestimmung mit dem ESA-Satellit GAIA etwa 20 Schwarze Löcher in unserer Galaxie entdeckt\, mit Massen\, die nicht durch stellare Prozesse erzeugbar sind. In den letzten Monaten überraschte die Entdeckung von etlichen\, bereits sehr früh im Universum entstanden Galaxien mit dem James Webb Space Teleskop\, die dem klassischen Verständnis der Kosmologie zu widersprechen scheinen. Alle diese Phänomene lassen sich durch so genannte primordiale Schwarze Löcher erklären\, die unmittelbar im Urknall entstanden sind\, und möglicherweise die bisher unverstandene Dunkle Materie darstellen. Dies ist eines der zentralen wissenschaftlichen Felder für das Deutsche Zentrum für Astrophysik. \nDer Vortrag wird auch als Livestream übertragen – schaltet einfach dazu!
URL:https://www.teilchenwelt.de/event/abendvortrag-besteht-die-dunkle-materie-aus-schwarzen-loechern-2023-11-07-72916/
LOCATION:Technische Universität Dresden\, Gerhart-Potthoff-Bau\, Hettnerstr. 1/3\, Dresden\, 01069\, Deutschland
CATEGORIES:Vortrag,Woche der Teilchenwelt
END:VEVENT
END:VCALENDAR