BEGIN:VCALENDAR
VERSION:2.0
PRODID:-//Teilchenwelt - ECPv6.15.20//NONSGML v1.0//EN
CALSCALE:GREGORIAN
METHOD:PUBLISH
X-WR-CALNAME:Teilchenwelt
X-ORIGINAL-URL:https://www.teilchenwelt.de
X-WR-CALDESC:Veranstaltungen für Teilchenwelt
REFRESH-INTERVAL;VALUE=DURATION:PT1H
X-Robots-Tag:noindex
X-PUBLISHED-TTL:PT1H
BEGIN:VTIMEZONE
TZID:Europe/Berlin
BEGIN:DAYLIGHT
TZOFFSETFROM:+0100
TZOFFSETTO:+0200
TZNAME:CEST
DTSTART:20220327T010000
END:DAYLIGHT
BEGIN:STANDARD
TZOFFSETFROM:+0200
TZOFFSETTO:+0100
TZNAME:CET
DTSTART:20221030T010000
END:STANDARD
BEGIN:DAYLIGHT
TZOFFSETFROM:+0100
TZOFFSETTO:+0200
TZNAME:CEST
DTSTART:20230326T010000
END:DAYLIGHT
BEGIN:STANDARD
TZOFFSETFROM:+0200
TZOFFSETTO:+0100
TZNAME:CET
DTSTART:20231029T010000
END:STANDARD
BEGIN:DAYLIGHT
TZOFFSETFROM:+0100
TZOFFSETTO:+0200
TZNAME:CEST
DTSTART:20240331T010000
END:DAYLIGHT
BEGIN:STANDARD
TZOFFSETFROM:+0200
TZOFFSETTO:+0100
TZNAME:CET
DTSTART:20241027T010000
END:STANDARD
END:VTIMEZONE
BEGIN:VEVENT
DTSTART;VALUE=DATE:20231108
DTEND;VALUE=DATE:20231111
DTSTAMP:20260421T220428
CREATED:20241128T091427Z
LAST-MODIFIED:20241128T094613Z
UID:74308-1699401600-1699660799@www.teilchenwelt.de
SUMMARY:MINT-EC Camp Teilchenphysik
DESCRIPTION:Vom 8.-10. November 2023 wird den Teil­neh­mer:innen am Physikalischen Institut der Universität Bonn ein spannendes und abwechslungsreiches Programm geboten: Im Fokus steht der Bau eines kleinen\, eigenen Teilchendetektors. Zusätzlich stehen Vorträge zur Teilchenphysik\, ein Nebelkammer Workshop und Laborbesichtigungen im Forschungs- und Technologiezentrum Detektorphysik der Universität Bonn auf dem Programm. Dabei gibt es genügend Möglichkeiten\, Fragen aller Art zu stellen und mehr über die Physik der kleinsten Teilchen und den Bau von Detektoren\, welche die Teilchen nachweisen und vermessen\, zu erfahren.  \nDer Workshop ist für SchülerInnen der regionalen MINT-EC Schulen\, Teilnahmevoraussetzung ist ein Mindestalter von 16 Jahren. Pro Schule können jew. bis zu zwei Schüler*innen teilnehmen. Insgesamt gibt es 16 Plätze und wir versuchen möglichst vielen Schulen die Möglichkeit zu geben teilzunehmen. \nDu kannst Dich spätestens bis zum 30.September 2023 anmelden.  \nindico.hiskp.uni-bonn.de/event/376/
URL:https://www.teilchenwelt.de/event/mint-ec-camp-teilchenphysik-2023-11-08-73284/
LOCATION:Forschungs- und Technologie-Zentrum Detektorphysik\, Kreuzbergweg 24\, Bonn\, 53115\, Deutschland
CATEGORIES:mehrtägige Workshops
END:VEVENT
BEGIN:VEVENT
DTSTART;TZID=Europe/Berlin:20231108T083000
DTEND;TZID=Europe/Berlin:20231108T153000
DTSTAMP:20260421T220428
CREATED:20241128T091246Z
LAST-MODIFIED:20241128T094320Z
UID:73787-1699432200-1699457400@www.teilchenwelt.de
SUMMARY:Teilchenphysik-Masterclass
DESCRIPTION:Forschen mit echten Daten aus der Teilchenphysik – das kann man bei einer Masterclass des Netzwerks Teilchenwelt. Was ist kurz nach dem Urknall passiert? Was sind die kleinsten Bausteine der Natur und was ist eigentlich dunkle Materie? Diesen und anderen Fragen gehen Teilchenphysiker in der ganzen Welt nach. Mithilfe von riesigen Teilchenbeschleunigern wie am CERN in Genf gehen sie der Entstehung der Welt auf den Grund und schließen von den kleinsten Teilchen auf die großen Zusammenhänge im Universum. \nBei einer Teilchenphysik-Masterclass lernen Jugendliche im Alter von 15-19 Jahren nach einem einführenden Vortrag\, wie man echte Daten von Teilchenkollisionen vom CERN auswertet und was man dabei heraus finden kann. Sie identifizieren mithilfe von Nachwuchs-Teilchenphysiker/innen selber die Spuren von Quarks\, Elektronen und Co. und können in einem Quiz am Ende der Masterclass ihr Wissen testen. Die Teilnahme erfordert keine Vorkenntnisse – nur Interesse an der Faszination Teilchenphysik. \nDiese Masterclass ist nur für Schüler:innen des Einstein-Gymnasiums Potsdam. Externe Anmeldungen sind leider nicht möglich.
URL:https://www.teilchenwelt.de/event/teilchenphysik-masterclass-2023-11-08-72747/
LOCATION:Einstein-Gymnasium Potsdam\, Hegelallee 30\, Potsdam\, 14467\, Deutschland
CATEGORIES:Masterclass,Woche der Teilchenwelt
END:VEVENT
BEGIN:VEVENT
DTSTART;TZID=Europe/Berlin:20231108T150000
DTEND;TZID=Europe/Berlin:20231108T200000
DTSTAMP:20260421T220428
CREATED:20241128T091414Z
LAST-MODIFIED:20241128T094559Z
UID:74245-1699455600-1699473600@www.teilchenwelt.de
SUMMARY:CERN@home am 8.11.2023\, im Rahmen der Woche der Teilchenwelt
DESCRIPTION:Du interessierst dich für Physik und würdest gern mehr erfahren über die kleinsten Teilchen\, aus denen unser Universum besteht? Möchtest Du einen Einblick erhalten\, was man aktuell am weltweit größten Forschungszentrum für Teilchenphysik – dem CERN erforscht und wie diese Forschung funktioniert? \nDann melde Dich an\, zu einem interaktiven Nachmittag (15 – 20 Uhr) mit Teilchenphysik. Wir bringen Dich virtuell ans CERN. Wissenschaftler:innen geben Dir einen Einblick in die moderne Forschung und erklären\, mit welchen Methoden geforscht wird. Neben Vorträgen zur Einführung und einer virtuellen Besichtigung eines CERN Experiments wird es ein Online-Escape-Game geben\, bei dem du verschiedene Orte des CERN kennenlernen wirst. \nDie Veranstaltung richtet sich an Schüler:innen zwischen 14 und 17 Jahren und die Teilnahme ist kostenlos! Die Anmeldung ist auf 50 Personen begrenzt. Es ist kein Vorwissen in der Teilchenphysik notwendig. Wissen über den Aufbau von Atomen\, Elektrische und Magnetische Felder ist hilfreich! Wer möchte\, darf natürlich gerne einmal einen kleinen Blick in den Vorbereitungskurs werfen\, den wir für unsere anderen Programm nutzen: hier \nDies ist eine Veranstaltung vom Netzwerk Teilchenwelt\, einem Netzwerk aus rund 30 Astro-/Teilchenphysik-Forschungsinstituten in Deutschland und CERN\, das bundesweit aktuelle Physik der kleinsten Teilchen an Jugendliche und Lehrkräfte vermittelt. Bist Du bereits in der Oberstufe oder hast Lust dich intensiv mit Teilchenphysik zu beschäftigen? Dann empfehlen wir dir\, an einer Masterclass zur Teilchenphysik teilzunehmen\, und Dich hier über die weiteren Möglichkeiten im Netzwerk Teilchenwelt zu informieren: www.teilchenwelt.de. \nInhalte: \n•	Was ist das CERN und nach was wird dort geforscht?\n•	Wie funktionieren die großen Detektor-Experimente? (inklusive online Besuch am ALICE Detektor)\n•	Fragerunde mit Personen vom CERN\n•	Mehr Infos zu Netzwerk Teilchenwelt \nWeitere Informationen finden Sie hier:\nindico.cern.ch/event/1335874/ \nBitte melden Sie sich hier für die Veranstaltung an:\nindico.cern.ch/event/1335874/
URL:https://www.teilchenwelt.de/event/cernhome-am-8-11-2023-im-rahmen-der-woche-der-teilchenwelt-2023-11-08-72205/
LOCATION:Online Veranstaltung
CATEGORIES:Woche der Teilchenwelt
END:VEVENT
BEGIN:VEVENT
DTSTART;TZID=Europe/Berlin:20231108T160000
DTEND;TZID=Europe/Berlin:20231108T200000
DTSTAMP:20260421T220428
CREATED:20241128T091404Z
LAST-MODIFIED:20241128T094539Z
UID:74197-1699459200-1699473600@www.teilchenwelt.de
SUMMARY:Nebelkammer-Workshop
DESCRIPTION:Selbst kosmische Teilchen sichtbar machen wird in einem Workshop mit Nebelkammern möglich. Wurden mit diesem einfachen Detektor in den 1930er Jahren spektakuläre Entdeckungen gemacht\, findet man Nebelkammern heute vorwiegend in Museen und wissenschaftlichen Ausstellungen. \nNetzwerk Teilchenwelt bietet einen Experimentiersatz zum Selbstbau von Nebelkammern an. Ziel des Workshops ist das Identifizieren und Beschreiben unterschiedlicher Teilchenspuren. Außerdem erfahren die Teilnehmenden\, was kosmische Teilchen sind und wie die Teilchenspuren in der Nebelkammer entstehen. \nIm Rahmen der Woche der Teilchenwelt bieten wir einen Nebelkammerworkshop für Groß und Klein mit buntem Rahmenprogramm an. Eine Anmeldung ist nicht erforderlich. Einfach zwischen 16 und 20 Uhr vorbei kommen.
URL:https://www.teilchenwelt.de/event/nebelkammer-workshop-2023-11-08-73601/
LOCATION:Georg-August-Universität Göttingen\, Friedrich-Hund-Platz 1\, Göttingen\, 37077\, Deutschland
CATEGORIES:Woche der Teilchenwelt,Workshop
END:VEVENT
END:VCALENDAR