BEGIN:VCALENDAR
VERSION:2.0
PRODID:-//Teilchenwelt - ECPv6.15.20//NONSGML v1.0//EN
CALSCALE:GREGORIAN
METHOD:PUBLISH
X-WR-CALNAME:Teilchenwelt
X-ORIGINAL-URL:https://www.teilchenwelt.de
X-WR-CALDESC:Veranstaltungen für Teilchenwelt
REFRESH-INTERVAL;VALUE=DURATION:PT1H
X-Robots-Tag:noindex
X-PUBLISHED-TTL:PT1H
BEGIN:VTIMEZONE
TZID:Europe/Berlin
BEGIN:DAYLIGHT
TZOFFSETFROM:+0100
TZOFFSETTO:+0200
TZNAME:CEST
DTSTART:20220327T010000
END:DAYLIGHT
BEGIN:STANDARD
TZOFFSETFROM:+0200
TZOFFSETTO:+0100
TZNAME:CET
DTSTART:20221030T010000
END:STANDARD
BEGIN:DAYLIGHT
TZOFFSETFROM:+0100
TZOFFSETTO:+0200
TZNAME:CEST
DTSTART:20230326T010000
END:DAYLIGHT
BEGIN:STANDARD
TZOFFSETFROM:+0200
TZOFFSETTO:+0100
TZNAME:CET
DTSTART:20231029T010000
END:STANDARD
BEGIN:DAYLIGHT
TZOFFSETFROM:+0100
TZOFFSETTO:+0200
TZNAME:CEST
DTSTART:20240331T010000
END:DAYLIGHT
BEGIN:STANDARD
TZOFFSETFROM:+0200
TZOFFSETTO:+0100
TZNAME:CET
DTSTART:20241027T010000
END:STANDARD
END:VTIMEZONE
BEGIN:VEVENT
DTSTART;VALUE=DATE:20231108
DTEND;VALUE=DATE:20231111
DTSTAMP:20260421T235108
CREATED:20241128T091427Z
LAST-MODIFIED:20241128T094613Z
UID:74308-1699401600-1699660799@www.teilchenwelt.de
SUMMARY:MINT-EC Camp Teilchenphysik
DESCRIPTION:Vom 8.-10. November 2023 wird den Teil­neh­mer:innen am Physikalischen Institut der Universität Bonn ein spannendes und abwechslungsreiches Programm geboten: Im Fokus steht der Bau eines kleinen\, eigenen Teilchendetektors. Zusätzlich stehen Vorträge zur Teilchenphysik\, ein Nebelkammer Workshop und Laborbesichtigungen im Forschungs- und Technologiezentrum Detektorphysik der Universität Bonn auf dem Programm. Dabei gibt es genügend Möglichkeiten\, Fragen aller Art zu stellen und mehr über die Physik der kleinsten Teilchen und den Bau von Detektoren\, welche die Teilchen nachweisen und vermessen\, zu erfahren.  \nDer Workshop ist für SchülerInnen der regionalen MINT-EC Schulen\, Teilnahmevoraussetzung ist ein Mindestalter von 16 Jahren. Pro Schule können jew. bis zu zwei Schüler*innen teilnehmen. Insgesamt gibt es 16 Plätze und wir versuchen möglichst vielen Schulen die Möglichkeit zu geben teilzunehmen. \nDu kannst Dich spätestens bis zum 30.September 2023 anmelden.  \nindico.hiskp.uni-bonn.de/event/376/
URL:https://www.teilchenwelt.de/event/mint-ec-camp-teilchenphysik-2023-11-08-73284/
LOCATION:Forschungs- und Technologie-Zentrum Detektorphysik\, Kreuzbergweg 24\, Bonn\, 53115\, Deutschland
CATEGORIES:mehrtägige Workshops
END:VEVENT
BEGIN:VEVENT
DTSTART;TZID=Europe/Berlin:20231109T090000
DTEND;TZID=Europe/Berlin:20231109T153000
DTSTAMP:20260421T235108
CREATED:20241128T091513Z
LAST-MODIFIED:20241128T094730Z
UID:74554-1699520400-1699543800@www.teilchenwelt.de
SUMMARY:Teilchenphysik-Masterclass
DESCRIPTION:Forschen mit echten Daten aus der Teilchenphysik – das kann man bei einer Masterclass des Netzwerks Teilchenwelt. Was ist kurz nach dem Urknall passiert? Was sind die kleinsten Bausteine der Natur und was ist eigentlich dunkle Materie? Diesen und anderen Fragen gehen Teilchenphysiker in der ganzen Welt nach. Mithilfe von riesigen Teilchenbeschleunigern wie am CERN in Genf gehen sie der Entstehung der Welt auf den Grund und schließen von den kleinsten Teilchen auf die großen Zusammenhänge im Universum.  \nBei einer Teilchenphysik-Masterclass lernen Jugendliche im Alter von 15-19 Jahren nach einem einführenden Vortrag\, wie man echte Daten von Teilchenkollisionen vom CERN auswertet und was man dabei heraus finden kann. Sie identifizieren mithilfe von Nachwuchs-Teilchenphysiker/innen selber die Spuren von Quarks\, Elektronen und Co. und können in einem Quiz am Ende der Masterclass ihr Wissen testen. Die Teilnahme erfordert keine Vorkenntnisse – nur Interesse an der Faszination Teilchenphysik.  \nFür diese Veranstaltung ist keine Anmeldung möglich. Wenn Sie an Ihrer Schule eine Teilchenphysik-Masterclass durchführen möchten oder an einer anderen Veranstaltung teilnehmen möchten\, wenden Sie sich bitte an Ihren lokalen Standort-Kontakt von Netzwerk Teilchenwelt: www.teilchenwelt.de/ueber-uns/standorte/ und wir organisieren eine Veranstaltung für Sie!
URL:https://www.teilchenwelt.de/event/teilchenphysik-masterclass-2023-11-09-73360/
LOCATION:Schülerlabor physik.begreifen am DESY in Hamburg\, Notkestraße 85\, Hamburg\, 22607\, Deutschland
CATEGORIES:Masterclass,Workshop
END:VEVENT
BEGIN:VEVENT
DTSTART;TZID=Europe/Berlin:20231109T100000
DTEND;TZID=Europe/Berlin:20231109T160000
DTSTAMP:20260421T235108
CREATED:20241128T091612Z
LAST-MODIFIED:20241128T094807Z
UID:74866-1699524000-1699545600@www.teilchenwelt.de
SUMMARY:Workshop-Angebot für Studieninteressierte
DESCRIPTION:Am Hochschultag der Universität Münster bieten wir vorm MExLab ExperiMINTe ein Angebot von Nebelkammern\, VR Brillen sowie Detektormodellen zum Bestaunen an. Man kann ohne Anmeldung vorbeikommen!
URL:https://www.teilchenwelt.de/event/workshop-angebot-fuer-studieninteressierte-2023-11-09-73533/
LOCATION:MExLab ExperiMINTe\, Münster\, Corrensstraße 2\, Münster\, 48149\, Deutschland
CATEGORIES:Tag der offenen Tür,Woche der Teilchenwelt,Workshop
END:VEVENT
BEGIN:VEVENT
DTSTART;TZID=Europe/Berlin:20231109T130000
DTEND;TZID=Europe/Berlin:20231109T140000
DTSTAMP:20260421T235108
CREATED:20241128T091304Z
LAST-MODIFIED:20241128T094354Z
UID:73885-1699534800-1699538400@www.teilchenwelt.de
SUMMARY:Führung durch die Beschleunigeranlagen des RUBION\, an der Ruhr-Universität Bochum
DESCRIPTION:Beschleuniger sind wichtige Werkzeuge der Kern- und Teilchenphysik\, um die Struktur und Wechselwirkung unserer Materie auf kleinster Ebene zu untersuchen. Auch andere Teilgebiete der Physik verwenden Beschleuniger\, um Materialien auf größeren Skalen zu analysieren. Das RUBION an der Ruhr-Universität Bochum besitzt verschiedene Beschleunigeranlagen\, um Ionenstrahlen zu erzeugen\, um mit diesen die Struktur und Zusammensetzung von Materialien zu analysieren und gezielt zu beeinflussen. Unter anderem besitzt das RUBION einen 100kV und 500kV Beschleuniger sowie einen 4MV Tandem Beschleuniger.  \nBei der Führung durch die Beschleunigeranlagen des RUBION erfahren die Teilnehmer:innen\, wie die unterschiedlichen Beschleunigertypen funktionieren\, wie Teilchen überhaupt beschleunigt werden können und welche Bauteile es braucht\, um die beschleunigten Teilchen zu einem Strahl zusammenzufügen. Darüber hinaus erfahren die Teilnehmerinnen etwas zu den aktuellen Forschungsfragen\, mit denen sich die Wissenschaftler:innen am RUBION beschäftigen.  \nDie Führung dauert ca. eine Stunde und ist für alle Interessierten ab dem 16. Lebensjahr geeignet. Eltern können gegebenenfalls auch jüngere Kinder mitbringen. Da die Teilnehmeranzahl pro Führung auf maximal 20 limitiert ist\, bitten wir darum sich vorher anzumelden. Schreiben Sie uns dazu bitte formlos eine E-Mail an bochum@teilchenwelt.de mit Ihrem Namen und der Anzahl an Personen\, die Sie anmelden möchten. Deutsch oder Englisch sind als Sprache der Führung möglich. Bitte nennen Sie uns in Ihrer Anmeldung\, welche Sprache Sie bevorzugen.  \nDie Führung findet am 09.11.202 ab 13:00 Uhr statt. Treffpunk ist vor dem Eingang des Audimax\, auf dem zentralen Platz des Campus der Ruhr-Universität Bochum\, Universitätsstraße 150 \, 44801 Bochum.\nWenn Sie schon jetzt etwas übers RUBION erfahren wollen\, besuchen Sie die Website: www.rubion.rub.de/de/  \nWir freuen uns auf Sie! \nDie Veranstaltung ist kostenlos.  \nBitte melden Sie sich hier für die Veranstaltung an:\nbochum@teilchenwelt.de
URL:https://www.teilchenwelt.de/event/fuehrung-durch-die-beschleunigeranlagen-des-rubion-an-der-ruhr-universitaet-bochum-2023-11-09-73307/
LOCATION:RUBION\, an der Ruhr-Universität Bochum\, Universitätsstraße 150\, Bochum\, 44801\, Deutschland
CATEGORIES:Führung,Woche der Teilchenwelt
END:VEVENT
BEGIN:VEVENT
DTSTART;TZID=Europe/Berlin:20231109T140000
DTEND;TZID=Europe/Berlin:20231109T160000
DTSTAMP:20260421T235108
CREATED:20241128T091234Z
LAST-MODIFIED:20241128T094306Z
UID:73720-1699538400-1699545600@www.teilchenwelt.de
SUMMARY:Infostand zum Helmholtz-Institut
DESCRIPTION:Schaut vorbei und entdeckt die Welt der Teilchenphysik am Helmholtz-Institut Jena! Ihr könnt einem Röntgenstreuexperiment folgen\, eine Nebelkammer austesten und viel Spannendes über die Forschung am HI Jena und über das Institut selbst lernen.
URL:https://www.teilchenwelt.de/event/infostand-zum-helmholtz-institut-2023-11-09-73267/
LOCATION:Helmholtz-Institut Jena\, Fraunhoferstraße 8\, Jena\, 07743\, Deutschland
CATEGORIES:Ausstellung,Woche der Teilchenwelt
END:VEVENT
BEGIN:VEVENT
DTSTART;TZID=Europe/Berlin:20231109T151500
DTEND;TZID=Europe/Berlin:20231109T170000
DTSTAMP:20260421T235108
CREATED:20241128T091552Z
LAST-MODIFIED:20241128T094756Z
UID:74759-1699542900-1699549200@www.teilchenwelt.de
SUMMARY:Teilchenphysik-AG
DESCRIPTION:Du interessierst Dich für die Entstehung des Universums\, schwarze Löcher und die Forschung am größten Teilchenbeschleuniger der Welt am CERN? Dann komm an die TU Dresden und melde dich für unsere Teilchenphysik-AG an! Zusammen mit unseren Wissenschaftlerinnen und Wissenschaftlern führst Du verschiedene Experimente durch und erhältst so Einblick in die aktuellen Forschungsfragen in der Astro- und Teilchenphysik.  \nInhalte der AG:\n– Urknall\, Dunkle Materie\, Schwarze Löcher\, CERN\n– Entstehung der chemischen Elemente\n– Wechselwirkungen\, Ladungen\, Elementarteilchen\n– Experimente zu kosmischen Teilchen\, z. B. Nebelkammern\n   bauen und Myonen messen\n– Arbeiten mit echten Daten von Detektoren am CERN  \nDienstags\, immer 14-tägig ab 16.1.2024 außer in den Ferien.\nWir freuen uns auf Deine Anmeldung!
URL:https://www.teilchenwelt.de/event/teilchenphysik-ag-2023-11-09-72806/
LOCATION:Gymnasium Dresden-Plauen\, Kantstraße 2\, Dresden\, 01187\, Deutschland
CATEGORIES:Workshop
END:VEVENT
BEGIN:VEVENT
DTSTART;TZID=Europe/Berlin:20231109T164500
DTEND;TZID=Europe/Berlin:20231109T210000
DTSTAMP:20260421T235108
CREATED:20241128T091351Z
LAST-MODIFIED:20241128T094524Z
UID:74127-1699548300-1699563600@www.teilchenwelt.de
SUMMARY:Particle Fever!
DESCRIPTION:Am 9. November präsentiert die Universität Siegen den Dokumentarfilm Particle Fever\, der die Entdeckung des Higgs-Teilchens beleuchtet. Im Rahmen dieser Veranstaltung findet außerdem eine Ausstellung statt\, die den Besucher:innen einen Einblick in die Welt der Teilchenphysik und die bahnbrechenden Experimente gewährt\, die in diesem Bereich durchgeführt werden. Die Veranstaltung schließt mit einer Gelegenheit\, Siegerländer Spezialitäten zu genießen\, was den Besucher:innen die Möglichkeit bietet\, sich in entspannter Atmosphäre auszutauschen.
URL:https://www.teilchenwelt.de/event/particle-fever-2023-11-09-73230/
LOCATION:Universität Siegen – Emmy-Noether-Campus (ENC)\, Walter-Flex Str. 3\, Siegen\, 57072\, Deutschland
CATEGORIES:Ausstellung,Woche der Teilchenwelt
END:VEVENT
BEGIN:VEVENT
DTSTART;TZID=Europe/Berlin:20231109T193000
DTEND;TZID=Europe/Berlin:20231109T210000
DTSTAMP:20260421T235108
CREATED:20241128T091302Z
LAST-MODIFIED:20241128T094343Z
UID:73872-1699558200-1699563600@www.teilchenwelt.de
SUMMARY:Science im Pub
DESCRIPTION:Wissenschaftler:innen vom Institut für Kern- und Teilchenphysik von der TU Dresden geben mit interaktiven Kurzvorträgen Einblicke in ihren Forschungsalltag. Ihr möchtet erfahren\, was Physiker:innen eigentlich machen und wie ihr Arbeitstag aussieht? Dann seid ihr hier richtig. Unsere Wissenschaftler:innen beantworten eure Fragen gerne! \nDer Eintritt ist frei\, aber die Anzahl der Plätze ist begrenzt. Kommt rechtzeitig vorbei\, genießt ein Getränk und erfahrt\, was die Teilchenphysik für euch tun kann! \nDiese Veranstaltung findet statt in Kooperation mit  Live Science e. V. Live Science e.V. bringt faszinierende Wissenschaft zu euch! Sie veranstalten Events mit Dresdner Forscherinnen und Forschern in Kneipen\, Parks\, Clubs oder im Einkaufszentrum – genau dort\, wo ihr seid! Mehr Informationen zu aktuellen Veranstaltungen findet Ihr auf Instagram  und Twitter (X).
URL:https://www.teilchenwelt.de/event/science-im-pub-2023-11-09-72596/
LOCATION:Lohrmanns Tap Room\, Kamenzer Straße 13\, Dresden\, 01099\, Deutschland
CATEGORIES:Vortrag,Woche der Teilchenwelt
END:VEVENT
BEGIN:VEVENT
DTSTART;TZID=Europe/Berlin:20231109T201500
DTEND;TZID=Europe/Berlin:20231109T220000
DTSTAMP:20260421T235108
CREATED:20241128T091245Z
LAST-MODIFIED:20241128T094319Z
UID:73779-1699560900-1699567200@www.teilchenwelt.de
SUMMARY:"WissenHoch2" über Elementarteilchen und den Urknall
DESCRIPTION:Alle Materie besteht aus Elementarteilchen\, den kleinsten\, unteilbaren Teilchen in Atomen. Ohne sie gäbe es beispielsweise keine Röntgengeräte\, keine Computertomographen\, kein Internet\, keinen elektrischen Strom. Die Wissenschaftsdokumentation „Elementarteilchen – Wie sie unsere Welt durchdringen“ am Donnerstag\, 9. November\, um 20.15 Uhr\, erzählt die Geschichte der Teilchenphysik und stellt prägende Köpfe vor. Im Anschluss\, um 21.00 Uhr\, befassen sich Gert Scobel und seine Gäste mit dem Urknall.  \nDer Link zum Programm: pressetreff.3sat.de/programm/dossier/wissenhoch2-ueber-elementarteilchen-wie-sie-unsere-materie-und-scobel-der-urknall  \nAm 7.11. gab es eine exklusive Preview des Dokumentarfilms mit anschlißender Podiumsdiskussion der Wissenschaftler:innen von DESY und Universität Hamburg. Die Diskussion zum Thema „Teilchenphysik – hä? Hochkomplexes für das breite TV Publikum“ könnt ihr euch jederzeit auf Youtube anschauen.
URL:https://www.teilchenwelt.de/event/wissenhoch2-ueber-elementarteilchen-und-den-urknall-2023-11-09/
CATEGORIES:Woche der Teilchenwelt
END:VEVENT
END:VCALENDAR