BEGIN:VCALENDAR
VERSION:2.0
PRODID:-//Teilchenwelt - ECPv6.15.20//NONSGML v1.0//EN
CALSCALE:GREGORIAN
METHOD:PUBLISH
X-ORIGINAL-URL:https://www.teilchenwelt.de
X-WR-CALDESC:Veranstaltungen für Teilchenwelt
REFRESH-INTERVAL;VALUE=DURATION:PT1H
X-Robots-Tag:noindex
X-PUBLISHED-TTL:PT1H
BEGIN:VTIMEZONE
TZID:Europe/Berlin
BEGIN:DAYLIGHT
TZOFFSETFROM:+0100
TZOFFSETTO:+0200
TZNAME:CEST
DTSTART:20220327T010000
END:DAYLIGHT
BEGIN:STANDARD
TZOFFSETFROM:+0200
TZOFFSETTO:+0100
TZNAME:CET
DTSTART:20221030T010000
END:STANDARD
BEGIN:DAYLIGHT
TZOFFSETFROM:+0100
TZOFFSETTO:+0200
TZNAME:CEST
DTSTART:20230326T010000
END:DAYLIGHT
BEGIN:STANDARD
TZOFFSETFROM:+0200
TZOFFSETTO:+0100
TZNAME:CET
DTSTART:20231029T010000
END:STANDARD
BEGIN:DAYLIGHT
TZOFFSETFROM:+0100
TZOFFSETTO:+0200
TZNAME:CEST
DTSTART:20240331T010000
END:DAYLIGHT
BEGIN:STANDARD
TZOFFSETFROM:+0200
TZOFFSETTO:+0100
TZNAME:CET
DTSTART:20241027T010000
END:STANDARD
END:VTIMEZONE
BEGIN:VEVENT
DTSTART;VALUE=DATE:20231121
DTEND;VALUE=DATE:20231122
DTSTAMP:20260421T220536
CREATED:20241128T091228Z
LAST-MODIFIED:20241128T094303Z
UID:73690-1700524800-1700611199@www.teilchenwelt.de
SUMMARY:International Cosmic Day
DESCRIPTION:Was sind kosmische Teilchen? Wo kommen sie her? Wie können sie gemessen werden? Macht mit beim „International Cosmic Day“ und findet die Antwort auf diese Fragen. Jugendliche und Lehrkräfte auf der ganzen Welt können die Forschung mit kosmischen Teilchen kennenlernen und sich bei Experimenten mit Wissenschaftler:innen austauschen.\nWeltweit beteiligen sich Forschungseinrichtungen und Universitäten am „International Cosmic Day“. Wissenschaftler:innen unterstützen die Teilnehmenden bei der Messung von kosmischen Teilchen\, der Analyse und Auswertung der Daten und bei der Präsentation der Messergebnisse – genau wie bei der Arbeit in einer internationalen Kollaboration. \nWeitere Informationen unter: icd.desy.de/
URL:https://www.teilchenwelt.de/event/international-cosmic-day-2023-11-21-73538/
LOCATION:Gymnasium Villa Elisabeth\, Eichstraße 1\, Wildau\, 15745\, Deutschland
CATEGORIES:Vortrag,Workshop
END:VEVENT
BEGIN:VEVENT
DTSTART;TZID=Europe/Berlin:20231121T090000
DTEND;TZID=Europe/Berlin:20231121T150000
DTSTAMP:20260421T220536
CREATED:20241128T091313Z
LAST-MODIFIED:20241128T094406Z
UID:73932-1700557200-1700578800@www.teilchenwelt.de
SUMMARY:International Cosmic Day
DESCRIPTION:Was sind kosmische Teilchen? Wo kommen sie her? Wie können sie gemessen werden? Macht mit beim „International Cosmic Day“ und findet die Antwort auf diese Fragen. Jugendliche und Lehrkräfte auf der ganzen Welt können die Forschung mit kosmischen Teilchen kennenlernen und sich bei Experimenten mit Wissenschaftler:innen austauschen.\nWeltweit beteiligen sich Forschungseinrichtungen und Universitäten am „International Cosmic Day“. Wissenschaftler:innen unterstützen die Teilnehmenden bei der Messung von kosmischen Teilchen\, der Analyse und Auswertung der Daten und bei der Präsentation der Messergebnisse – genau wie bei der Arbeit in einer internationalen Kollaboration. \nWeitere Informationen unter: icd.desy.de/
URL:https://www.teilchenwelt.de/event/international-cosmic-day-2023-11-21-72263/
LOCATION:Julius-Maximilians-Universität Würzburg\, Emil-Hilb-Weg 22\, Würzburg\, 97074\, Deutschland
CATEGORIES:Vortrag,Workshop
END:VEVENT
BEGIN:VEVENT
DTSTART;TZID=Europe/Berlin:20231121T090000
DTEND;TZID=Europe/Berlin:20231121T170000
DTSTAMP:20260421T220536
CREATED:20241128T091453Z
LAST-MODIFIED:20241128T094718Z
UID:74445-1700557200-1700586000@www.teilchenwelt.de
SUMMARY:International Cosmic Day
DESCRIPTION:Was sind kosmische Teilchen? Wo kommen sie her? Wie können sie gemessen werden? Macht mit beim „International Cosmic Day“ und findet die Antwort auf diese Fragen. Jugendliche und Lehrkräfte auf der ganzen Welt können die Forschung mit kosmischen Teilchen kennenlernen und sich bei Experimenten mit Wissenschaftler:innen austauschen.\nWeltweit beteiligen sich Forschungseinrichtungen und Universitäten am „International Cosmic Day“. Wissenschaftler:innen unterstützen die Teilnehmenden bei der Messung von kosmischen Teilchen\, der Analyse und Auswertung der Daten und bei der Präsentation der Messergebnisse – genau wie bei der Arbeit in einer internationalen Kollaboration. \nWeitere Informationen unter: icd.desy.de/ \nindico.hiskp.uni-bonn.de/event/397/ \nBitte melden Sie sich hier für die Veranstaltung an:\nindico.hiskp.uni-bonn.de/event/397/registrations/99/
URL:https://www.teilchenwelt.de/event/international-cosmic-day-2023-11-21-73284/
LOCATION:Forschungs- und Technologie-Zentrum Detektorphysik\, Kreuzbergweg 24\, Bonn\, 53115\, Deutschland
CATEGORIES:Vortrag,Workshop
END:VEVENT
END:VCALENDAR