BEGIN:VCALENDAR
VERSION:2.0
PRODID:-//Teilchenwelt - ECPv6.15.20//NONSGML v1.0//EN
CALSCALE:GREGORIAN
METHOD:PUBLISH
X-ORIGINAL-URL:https://www.teilchenwelt.de
X-WR-CALDESC:Veranstaltungen für Teilchenwelt
REFRESH-INTERVAL;VALUE=DURATION:PT1H
X-Robots-Tag:noindex
X-PUBLISHED-TTL:PT1H
BEGIN:VTIMEZONE
TZID:Europe/Berlin
BEGIN:DAYLIGHT
TZOFFSETFROM:+0100
TZOFFSETTO:+0200
TZNAME:CEST
DTSTART:20230326T010000
END:DAYLIGHT
BEGIN:STANDARD
TZOFFSETFROM:+0200
TZOFFSETTO:+0100
TZNAME:CET
DTSTART:20231029T010000
END:STANDARD
BEGIN:DAYLIGHT
TZOFFSETFROM:+0100
TZOFFSETTO:+0200
TZNAME:CEST
DTSTART:20240331T010000
END:DAYLIGHT
BEGIN:STANDARD
TZOFFSETFROM:+0200
TZOFFSETTO:+0100
TZNAME:CET
DTSTART:20241027T010000
END:STANDARD
BEGIN:DAYLIGHT
TZOFFSETFROM:+0100
TZOFFSETTO:+0200
TZNAME:CEST
DTSTART:20250330T010000
END:DAYLIGHT
BEGIN:STANDARD
TZOFFSETFROM:+0200
TZOFFSETTO:+0100
TZNAME:CET
DTSTART:20251026T010000
END:STANDARD
END:VTIMEZONE
BEGIN:VEVENT
DTSTART;TZID=Europe/Berlin:20240308T080000
DTEND;TZID=Europe/Berlin:20240308T190000
DTSTAMP:20260421T153603
CREATED:20241128T091253Z
LAST-MODIFIED:20241128T095005Z
UID:73824-1709884800-1709924400@www.teilchenwelt.de
SUMMARY:International Masterclass
DESCRIPTION:Eintauchen in die Welt der Teilchenphysik und selbst Daten vom CERN in Genf auswerten: Dazu laden die Schülerforschungstage interessierte Jugendliche ab Klassenstufe 10 ein. Bei den International Masterclasses lernen die TeilnehmerInnen die Forschungsmethoden der Teilchenphysik kennen. Sie identifizieren Elementarteilchen in Teilchenkollisionen und diskutieren ihre Ergebnisse in einer abschließenden Videokonferenz mit Teilnehmern aus anderen Forschungseinrichtungen und dem CERN. Das Programm International Masterclasses findet weltweit an rund 225 Forschungseinrichtungen in 60 Ländern statt. \nBitte melden Sie sich hier für die Veranstaltung an:\nindico.cern.ch/event/1345198/
URL:https://www.teilchenwelt.de/event/international-masterclass-2024-03-08-72770/
LOCATION:GSI Helmholtzzentrum für Schwerionenforschung\, Planckstraße 1\, Darmstadt\, 64291\, Deutschland
CATEGORIES:Masterclass,Workshop
END:VEVENT
END:VCALENDAR