BEGIN:VCALENDAR
VERSION:2.0
PRODID:-//Teilchenwelt - ECPv6.15.20//NONSGML v1.0//EN
CALSCALE:GREGORIAN
METHOD:PUBLISH
X-ORIGINAL-URL:https://www.teilchenwelt.de
X-WR-CALDESC:Veranstaltungen für Teilchenwelt
REFRESH-INTERVAL;VALUE=DURATION:PT1H
X-Robots-Tag:noindex
X-PUBLISHED-TTL:PT1H
BEGIN:VTIMEZONE
TZID:Europe/Berlin
BEGIN:DAYLIGHT
TZOFFSETFROM:+0100
TZOFFSETTO:+0200
TZNAME:CEST
DTSTART:20230326T010000
END:DAYLIGHT
BEGIN:STANDARD
TZOFFSETFROM:+0200
TZOFFSETTO:+0100
TZNAME:CET
DTSTART:20231029T010000
END:STANDARD
BEGIN:DAYLIGHT
TZOFFSETFROM:+0100
TZOFFSETTO:+0200
TZNAME:CEST
DTSTART:20240331T010000
END:DAYLIGHT
BEGIN:STANDARD
TZOFFSETFROM:+0200
TZOFFSETTO:+0100
TZNAME:CET
DTSTART:20241027T010000
END:STANDARD
BEGIN:DAYLIGHT
TZOFFSETFROM:+0100
TZOFFSETTO:+0200
TZNAME:CEST
DTSTART:20250330T010000
END:DAYLIGHT
BEGIN:STANDARD
TZOFFSETFROM:+0200
TZOFFSETTO:+0100
TZNAME:CET
DTSTART:20251026T010000
END:STANDARD
END:VTIMEZONE
BEGIN:VEVENT
DTSTART;TZID=Europe/Berlin:20240314T090000
DTEND;TZID=Europe/Berlin:20240314T120000
DTSTAMP:20260421T153610
CREATED:20241128T091510Z
LAST-MODIFIED:20241128T094728Z
UID:74535-1710406800-1710417600@www.teilchenwelt.de
SUMMARY:Nebelkammer-Workshop
DESCRIPTION:Selbst kosmische Teilchen sichtbar machen wird in einem Workshop mit Nebelkammern möglich. Wurden mit diesem einfachen Detektor in den 1930er Jahren spektakuläre Entdeckungen gemacht\, findet man Nebelkammern heute vorwiegend in Museen und wissenschaftlichen Ausstellungen. \nNetzwerk Teilchenwelt bietet einen Experimentiersatz zum Selbstbau von Nebelkammern an. Ziel des Workshops ist das Identifizieren und Beschreiben unterschiedlicher Teilchenspuren. Außerdem erfahren die Teilnehmenden\, was kosmische Teilchen sind und wie die Teilchenspuren in der Nebelkammer entstehen. \nEine Veranstaltung vom Deutschen Zentrum für Astrophysik für das Joliot-Curie-Gymnasium in Görlitz.
URL:https://www.teilchenwelt.de/event/nebelkammer-workshop-2024-03-14-73447/
LOCATION:Scultetus-Sternwarte Görlitz\, An der Sternwarte 1\, Görlitz\, 02827\, Deutschland
CATEGORIES:Workshop
END:VEVENT
BEGIN:VEVENT
DTSTART;TZID=Europe/Berlin:20240314T093000
DTEND;TZID=Europe/Berlin:20240314T170000
DTSTAMP:20260421T153610
CREATED:20241128T091536Z
LAST-MODIFIED:20241128T094747Z
UID:74679-1710408600-1710435600@www.teilchenwelt.de
SUMMARY:International Masterclass
DESCRIPTION:Eintauchen in die Welt der Teilchenphysik und selbst Daten vom CERN in Genf auswerten: Dazu laden die Schülerforschungstage interessierte Jugendliche ab Klassenstufe 10 ein. Bei den International Masterclasses lernen die TeilnehmerInnen die Forschungsmethoden der Teilchenphysik kennen. Sie identifizieren Elementarteilchen in Teilchenkollisionen und diskutieren ihre Ergebnisse in einer abschließenden Videokonferenz mit Teilnehmern aus anderen Forschungseinrichtungen und dem CERN. Das Programm International Masterclasses findet weltweit an rund 225 Forschungseinrichtungen in 60 Ländern statt. \nBitte melden Sie sich hier für die Veranstaltung an:\nwuerzburg@teilchenwelt.de
URL:https://www.teilchenwelt.de/event/international-masterclass-2024-03-14-72263/
LOCATION:Julius-Maximilians-Universität Würzburg\, Emil-Hilb-Weg 22\, Würzburg\, 97074\, Deutschland
CATEGORIES:Masterclass,Workshop
END:VEVENT
END:VCALENDAR