BEGIN:VCALENDAR
VERSION:2.0
PRODID:-//Teilchenwelt - ECPv6.15.20//NONSGML v1.0//EN
CALSCALE:GREGORIAN
METHOD:PUBLISH
X-WR-CALNAME:Teilchenwelt
X-ORIGINAL-URL:https://www.teilchenwelt.de
X-WR-CALDESC:Veranstaltungen für Teilchenwelt
REFRESH-INTERVAL;VALUE=DURATION:PT1H
X-Robots-Tag:noindex
X-PUBLISHED-TTL:PT1H
BEGIN:VTIMEZONE
TZID:Europe/Berlin
BEGIN:DAYLIGHT
TZOFFSETFROM:+0100
TZOFFSETTO:+0200
TZNAME:CEST
DTSTART:20230326T010000
END:DAYLIGHT
BEGIN:STANDARD
TZOFFSETFROM:+0200
TZOFFSETTO:+0100
TZNAME:CET
DTSTART:20231029T010000
END:STANDARD
BEGIN:DAYLIGHT
TZOFFSETFROM:+0100
TZOFFSETTO:+0200
TZNAME:CEST
DTSTART:20240331T010000
END:DAYLIGHT
BEGIN:STANDARD
TZOFFSETFROM:+0200
TZOFFSETTO:+0100
TZNAME:CET
DTSTART:20241027T010000
END:STANDARD
BEGIN:DAYLIGHT
TZOFFSETFROM:+0100
TZOFFSETTO:+0200
TZNAME:CEST
DTSTART:20250330T010000
END:DAYLIGHT
BEGIN:STANDARD
TZOFFSETFROM:+0200
TZOFFSETTO:+0100
TZNAME:CET
DTSTART:20251026T010000
END:STANDARD
END:VTIMEZONE
BEGIN:VEVENT
DTSTART;TZID=Europe/Berlin:20240328T090000
DTEND;TZID=Europe/Berlin:20240328T170000
DTSTAMP:20260421T153327
CREATED:20241128T091432Z
LAST-MODIFIED:20241128T094623Z
UID:74332-1711616400-1711645200@www.teilchenwelt.de
SUMMARY:International IceCube Masterclass
DESCRIPTION:Das IceCube Observatorium am Südpol ist eines der größten und beeindruckendsten Experimente. Obwohl es hauptsächlich zur Erforschung von Neutrinos gebaut wurde\, können wir mit dem sogenannten IceTop Detektor auch die kosmische Strahlung messen. Die kosmische Strahlung besteht aus winzigen Teilchen\, welche ununterbrochen auf die Erde prasseln. Obwohl wir schon viel über die kosmische Strahlung wissen gibt es noch einige offene Fragen. Wir wollen die Quellen dieser Strahlung herausfinden und verstehen wie kosmische Beschleuniger\, zum Beispiel Supernovae oder aktive Galaxienkerne\, funktionieren. Wir erforschen\, woraus die kosmische Strahlung genau besteht und wollen verstehen\, was ihr auf dem langen Weg zur Erde begegnet.\nBei dieser IceCube Masterclass wollen wir euch für einen Tag mitnehmen auf eine Reise an den Südpol und mit euch gemeinsam den Fluss der Kosmischen Strahlung messen. Ihr werdet an diesem Tag das IceCube Observatorium besser kennen lernen und selber Daten analysieren. \nBitte melden Sie sich hier für die Veranstaltung an:\nwww.physik.rwth-aachen.de/cms/physik/oeffentlichkeit/schuelerinnen-und-schueler/~hdod/international-icecube-masterclasses/ \nBitte melden Sie sich hier für die Veranstaltung an:\nlasse.halve@rwth-aachen.de
URL:https://www.teilchenwelt.de/event/international-icecube-masterclass-2024-03-28-72624/
LOCATION:Rheinisch-Westfälische Technische Hochschule (RWTH) Aachen\, Otto-Blumenthal-Straße\, Aachen\, 52074\, Deutschland
CATEGORIES:Masterclass
END:VEVENT
BEGIN:VEVENT
DTSTART;TZID=Europe/Berlin:20240328T090000
DTEND;TZID=Europe/Berlin:20240328T170000
DTSTAMP:20260421T153327
CREATED:20241128T091444Z
LAST-MODIFIED:20241128T094659Z
UID:74393-1711616400-1711645200@www.teilchenwelt.de
SUMMARY:IceCube Masterclass
DESCRIPTION:Das IceCube Observatorium am Südpol ist eines der größten und beeindruckendsten Experimente. Obwohl es hauptsächlich zur Erforschung von Neutrinos gebaut wurde\, können wir mit dem sogenannten IceTop Detektor auch die kosmische Strahlung messen. Die kosmische Strahlung besteht aus winzigen Teilchen\, welche ununterbrochen auf die Erde prasseln. Obwohl wir schon viel über die kosmische Strahlung wissen gibt es noch einige offene Fragen. Wir wollen die Quellen dieser Strahlung herausfinden und verstehen wie kosmische Beschleuniger\, zum Beispiel Supernovae oder aktive Galaxienkerne\, funktionieren. Wir erforschen\, woraus die kosmische Strahlung genau besteht und wollen verstehen\, was ihr auf dem langen Weg zur Erde begegnet.\nBei dieser IceCube Masterclass wollen wir euch für einen Tag mitnehmen auf eine Reise an den Südpol und mit euch gemeinsam den Fluss der Kosmischen Strahlung messen. Ihr werdet an diesem Tag das IceCube Observatorium besser kennen lernen und selber Daten analysieren.
URL:https://www.teilchenwelt.de/event/icecube-masterclass-2024-03-28-73143/
LOCATION:Friedrich-Alexander-Universität Erlangen-Nürnberg\, ECAP\, Nikolaus-Fiebiger-Str. 2\, Erlangen\, 91058\, Deutschland
CATEGORIES:Masterclass
END:VEVENT
BEGIN:VEVENT
DTSTART;TZID=Europe/Berlin:20240328T090000
DTEND;TZID=Europe/Berlin:20240328T170000
DTSTAMP:20260421T153327
CREATED:20241128T091557Z
LAST-MODIFIED:20241128T094758Z
UID:74783-1711616400-1711645200@www.teilchenwelt.de
SUMMARY:Internationale IceCube Masterclass
DESCRIPTION:Das IceCube Observatorium am Südpol ist eines der größten und beeindruckendsten Experimente. Obwohl es hauptsächlich zur Erforschung von Neutrinos gebaut wurde\, können wir mit dem sogenannten IceTop Detektor auch die kosmische Strahlung messen. Die kosmische Strahlung besteht aus winzigen Teilchen\, welche ununterbrochen auf die Erde prasseln. Obwohl wir schon viel über die kosmische Strahlung wissen gibt es noch einige offene Fragen. Wir wollen die Quellen dieser Strahlung herausfinden und verstehen wie kosmische Beschleuniger\, zum Beispiel Supernovae oder aktive Galaxienkerne\, funktionieren. Wir erforschen\, woraus die kosmische Strahlung genau besteht und wollen verstehen\, was ihr auf dem langen Weg zur Erde begegnet.\nBei dieser IceCube Masterclass wollen wir euch für einen Tag mitnehmen auf eine Reise an den Südpol und mit euch gemeinsam den Fluss der Kosmischen Strahlung messen. Ihr werdet an diesem Tag das IceCube Observatorium besser kennen lernen und selber Daten analysieren. \nwww.schule.physik.uni-mainz.de/icecube-masterclass/ \nBitte melden Sie sich hier für die Veranstaltung an:\nwww.schule.physik.uni-mainz.de/icecube-masterclass/anmeldung-icecube-masterclass/
URL:https://www.teilchenwelt.de/event/internationale-icecube-masterclass-2024-03-28-72769/
LOCATION:Johannes Gutenberg-Universität Mainz\, Staudinger Weg 7\, Mainz\, 55128\, Deutschland
CATEGORIES:Masterclass
END:VEVENT
END:VCALENDAR