BEGIN:VCALENDAR
VERSION:2.0
PRODID:-//Teilchenwelt - ECPv6.15.20//NONSGML v1.0//EN
CALSCALE:GREGORIAN
METHOD:PUBLISH
X-WR-CALNAME:Teilchenwelt
X-ORIGINAL-URL:https://www.teilchenwelt.de
X-WR-CALDESC:Veranstaltungen für Teilchenwelt
REFRESH-INTERVAL;VALUE=DURATION:PT1H
X-Robots-Tag:noindex
X-PUBLISHED-TTL:PT1H
BEGIN:VTIMEZONE
TZID:Europe/Berlin
BEGIN:DAYLIGHT
TZOFFSETFROM:+0100
TZOFFSETTO:+0200
TZNAME:CEST
DTSTART:20230326T010000
END:DAYLIGHT
BEGIN:STANDARD
TZOFFSETFROM:+0200
TZOFFSETTO:+0100
TZNAME:CET
DTSTART:20231029T010000
END:STANDARD
BEGIN:DAYLIGHT
TZOFFSETFROM:+0100
TZOFFSETTO:+0200
TZNAME:CEST
DTSTART:20240331T010000
END:DAYLIGHT
BEGIN:STANDARD
TZOFFSETFROM:+0200
TZOFFSETTO:+0100
TZNAME:CET
DTSTART:20241027T010000
END:STANDARD
BEGIN:DAYLIGHT
TZOFFSETFROM:+0100
TZOFFSETTO:+0200
TZNAME:CEST
DTSTART:20250330T010000
END:DAYLIGHT
BEGIN:STANDARD
TZOFFSETFROM:+0200
TZOFFSETTO:+0100
TZNAME:CET
DTSTART:20251026T010000
END:STANDARD
END:VTIMEZONE
BEGIN:VEVENT
DTSTART;TZID=Europe/Berlin:20240424T083000
DTEND;TZID=Europe/Berlin:20240424T160000
DTSTAMP:20260421T140525
CREATED:20241128T091532Z
LAST-MODIFIED:20241128T094744Z
UID:74655-1713947400-1713974400@www.teilchenwelt.de
SUMMARY:Machine Learning Masterclass mit OPAL-Daten
DESCRIPTION:Techniken des maschinellen Lernen haben in den letzten Jahren erheblich an Bedeutung gewonnen und finden auch Anwendung in der Teilchenphysik. Bei diesem Workshop lernen Jugendliche im Alter von 15-19 Jahren nach einem einführenden Vortrag\, wie man echte Daten von Teilchenkollisionen vom CERN mittels Machine Learning auswertet und was man dabei heraus finden kann. Insbesondere programmieren die Schüler:innen ein eigenes künstliches neuronales Netz\, um damit Ereignisse automatisch zu kategorisieren\, die vom OPAL-Experiment am CERN stammen. Die Teilnahme erfordert keine Vorkenntnisse – nur Interesse an der Faszination Teilchenphysik.
URL:https://www.teilchenwelt.de/event/machine-learning-masterclass-mit-opal-daten-2024-04-24-72928/
LOCATION:Deutsches Museum Bonn\, Ahrstraße 45\, Bonn\, 53175\, Deutschland
CATEGORIES:Workshop
END:VEVENT
END:VCALENDAR