BEGIN:VCALENDAR
VERSION:2.0
PRODID:-//Teilchenwelt - ECPv6.15.20//NONSGML v1.0//EN
CALSCALE:GREGORIAN
METHOD:PUBLISH
X-WR-CALNAME:Teilchenwelt
X-ORIGINAL-URL:https://www.teilchenwelt.de
X-WR-CALDESC:Veranstaltungen für Teilchenwelt
REFRESH-INTERVAL;VALUE=DURATION:PT1H
X-Robots-Tag:noindex
X-PUBLISHED-TTL:PT1H
BEGIN:VTIMEZONE
TZID:Europe/Berlin
BEGIN:DAYLIGHT
TZOFFSETFROM:+0100
TZOFFSETTO:+0200
TZNAME:CEST
DTSTART:20230326T010000
END:DAYLIGHT
BEGIN:STANDARD
TZOFFSETFROM:+0200
TZOFFSETTO:+0100
TZNAME:CET
DTSTART:20231029T010000
END:STANDARD
BEGIN:DAYLIGHT
TZOFFSETFROM:+0100
TZOFFSETTO:+0200
TZNAME:CEST
DTSTART:20240331T010000
END:DAYLIGHT
BEGIN:STANDARD
TZOFFSETFROM:+0200
TZOFFSETTO:+0100
TZNAME:CET
DTSTART:20241027T010000
END:STANDARD
BEGIN:DAYLIGHT
TZOFFSETFROM:+0100
TZOFFSETTO:+0200
TZNAME:CEST
DTSTART:20250330T010000
END:DAYLIGHT
BEGIN:STANDARD
TZOFFSETFROM:+0200
TZOFFSETTO:+0100
TZNAME:CET
DTSTART:20251026T010000
END:STANDARD
END:VTIMEZONE
BEGIN:VEVENT
DTSTART;VALUE=DATE:20240503
DTEND;VALUE=DATE:20240504
DTSTAMP:20260421T124607
CREATED:20241128T091231Z
LAST-MODIFIED:20241128T094957Z
UID:73705-1714694400-1714780799@www.teilchenwelt.de
SUMMARY:Nebelkammer-Workshop
DESCRIPTION:Selbst kosmische Teilchen sichtbar machen wird in einem Workshop mit Nebelkammern möglich. Wurden mit diesem einfachen Detektor in den 1930er Jahren spektakuläre Entdeckungen gemacht\, findet man Nebelkammern heute vorwiegend in Museen und wissenschaftlichen Ausstellungen. \nNetzwerk Teilchenwelt bietet einen Experimentiersatz zum Selbstbau von Nebelkammern an. Ziel des Workshops ist das Identifizieren und Beschreiben unterschiedlicher Teilchenspuren. Außerdem erfahren die Teilnehmenden\, was kosmische Teilchen sind und wie die Teilchenspuren in der Nebelkammer entstehen. \nEine Veranstaltung für die Schüler:innen vom Franziskaneum Meißen.
URL:https://www.teilchenwelt.de/event/nebelkammer-workshop-2024-05-03-72518/
LOCATION:Technische Universität Dresden\, Zellescher Weg 19\, Dresden\, 01069\, Deutschland
CATEGORIES:Workshop
END:VEVENT
BEGIN:VEVENT
DTSTART;VALUE=DATE:20240503
DTEND;VALUE=DATE:20240504
DTSTAMP:20260421T124607
CREATED:20241128T091448Z
LAST-MODIFIED:20241128T094702Z
UID:74420-1714694400-1714780799@www.teilchenwelt.de
SUMMARY:Nebelkammer-Workshop
DESCRIPTION:Selbst kosmische Teilchen sichtbar machen wird in einem Workshop mit Nebelkammern möglich. Wurden mit diesem einfachen Detektor in den 1930er Jahren spektakuläre Entdeckungen gemacht\, findet man Nebelkammern heute vorwiegend in Museen und wissenschaftlichen Ausstellungen. \nNetzwerk Teilchenwelt bietet einen Experimentiersatz zum Selbstbau von Nebelkammern an. Ziel des Workshops ist das Identifizieren und Beschreiben unterschiedlicher Teilchenspuren. Außerdem erfahren die Teilnehmenden\, was kosmische Teilchen sind und wie die Teilchenspuren in der Nebelkammer entstehen.
URL:https://www.teilchenwelt.de/event/nebelkammer-workshop-2024-05-03-72211/
LOCATION:Hörsaalzentrum der TU Dresden\, Bergstraße 64\, Dresden\, 01069
CATEGORIES:Workshop
END:VEVENT
BEGIN:VEVENT
DTSTART;TZID=Europe/Berlin:20240503T090000
DTEND;TZID=Europe/Berlin:20240503T120000
DTSTAMP:20260421T124607
CREATED:20250428T094730Z
LAST-MODIFIED:20250428T114731Z
UID:77015-1714726800-1714737600@www.teilchenwelt.de
SUMMARY:Nebelkammer-Workshop
DESCRIPTION:Selbst kosmische Teilchen sichtbar machen wird in einem Workshop mit Nebelkammern möglich. Wurden mit diesem einfachen Detektor in den 1930er Jahren spektakuläre Entdeckungen gemacht\, findet man Nebelkammern heute vorwiegend in Museen und wissenschaftlichen Ausstellungen. \nNetzwerk Teilchenwelt bietet einen Experimentiersatz zum Selbstbau von Nebelkammern an. Ziel des Workshops ist das Identifizieren und Beschreiben unterschiedlicher Teilchenspuren. Außerdem erfahren die Teilnehmenden\, was kosmische Teilchen sind und wie die Teilchenspuren in der Nebelkammer entstehen.
URL:https://www.teilchenwelt.de/event/nebelkammer-workshop-2024-05-03-72211-2/
LOCATION:Hörsaalzentrum der TU Dresden\, Bergstraße 64\, Dresden\, 01069
CATEGORIES:Workshop
END:VEVENT
BEGIN:VEVENT
DTSTART;TZID=Europe/Berlin:20240503T160000
DTEND;TZID=Europe/Berlin:20240503T180000
DTSTAMP:20260421T124607
CREATED:20250311T174702Z
LAST-MODIFIED:20250311T184702Z
UID:76849-1714752000-1714759200@www.teilchenwelt.de
SUMMARY:MINT-AG Zentrum: Workshop Teilchenphysik
DESCRIPTION:Der Workshop Teilchenphysik findet am Schuldorf Bergstrasse in Seeheim-Jugenheim im Rahmen des MINT-AG Zentrum (Stadt Darmstadt\, Landkreis Darmstadt-Dieburg) statt. Er steht interessierten Schülern während des Schuljahres offen.
URL:https://www.teilchenwelt.de/event/mint-ag-zentrum-workshop-teilchenphysik-2024-05-03-72726/
LOCATION:Schuldorf Bergstraße\, Sandstr.\, Seeheim-Jugenheim\, 64342\, Deutschland
CATEGORIES:Workshop
END:VEVENT
END:VCALENDAR