BEGIN:VCALENDAR
VERSION:2.0
PRODID:-//Teilchenwelt - ECPv6.15.20//NONSGML v1.0//EN
CALSCALE:GREGORIAN
METHOD:PUBLISH
X-WR-CALNAME:Teilchenwelt
X-ORIGINAL-URL:https://www.teilchenwelt.de
X-WR-CALDESC:Veranstaltungen für Teilchenwelt
REFRESH-INTERVAL;VALUE=DURATION:PT1H
X-Robots-Tag:noindex
X-PUBLISHED-TTL:PT1H
BEGIN:VTIMEZONE
TZID:Europe/Berlin
BEGIN:DAYLIGHT
TZOFFSETFROM:+0100
TZOFFSETTO:+0200
TZNAME:CEST
DTSTART:20230326T010000
END:DAYLIGHT
BEGIN:STANDARD
TZOFFSETFROM:+0200
TZOFFSETTO:+0100
TZNAME:CET
DTSTART:20231029T010000
END:STANDARD
BEGIN:DAYLIGHT
TZOFFSETFROM:+0100
TZOFFSETTO:+0200
TZNAME:CEST
DTSTART:20240331T010000
END:DAYLIGHT
BEGIN:STANDARD
TZOFFSETFROM:+0200
TZOFFSETTO:+0100
TZNAME:CET
DTSTART:20241027T010000
END:STANDARD
BEGIN:DAYLIGHT
TZOFFSETFROM:+0100
TZOFFSETTO:+0200
TZNAME:CEST
DTSTART:20250330T010000
END:DAYLIGHT
BEGIN:STANDARD
TZOFFSETFROM:+0200
TZOFFSETTO:+0100
TZNAME:CET
DTSTART:20251026T010000
END:STANDARD
END:VTIMEZONE
BEGIN:VEVENT
DTSTART;VALUE=DATE:20240528
DTEND;VALUE=DATE:20240529
DTSTAMP:20260421T110838
CREATED:20241128T091339Z
LAST-MODIFIED:20241128T095009Z
UID:74064-1716854400-1716940799@www.teilchenwelt.de
SUMMARY:Teilchenphysik-AG
DESCRIPTION:Die Teilchenphysik-AG ist ein Angebot für Schüler*innen ab der Klassenstufe neun. Diese AG ist so konzipiert\, dass sie etwa alle vier Wochen für etwa vier Zeitstunden stattfindet. Sie beinhaltet auf vielfältige Weise Themen der Teilchen- und Astroteilchenphysik. Theoretische Abschnitte werden durch praktische Erfahrungen anschaulich.  \nDie Sitzungen stehen für sich\, werden jedoch mit unserer Expertise in eine schlüssige Reihenfolge gebracht. Es ist angedacht\, dass die Schüler*innen die das Angebot wahrnehmen möchten\, langfristig teilnehmen und sich nicht einzelne Sitzungen auswählen.
URL:https://www.teilchenwelt.de/event/teilchenphysik-ag-2024-05-28-73175/
LOCATION:Technische Universität Dresden\, Andreas-Schubert-Bau\, Zellescher Weg 19\, Dresden\, 01069\, Deutschland
CATEGORIES:Workshop
END:VEVENT
BEGIN:VEVENT
DTSTART;TZID=Europe/Berlin:20240528T090000
DTEND;TZID=Europe/Berlin:20240528T153000
DTSTAMP:20260421T110838
CREATED:20241128T091458Z
LAST-MODIFIED:20241128T094722Z
UID:74470-1716886800-1716910200@www.teilchenwelt.de
SUMMARY:Teilchenphysik-Masterclass
DESCRIPTION:Forschen mit echten Daten aus der Teilchenphysik – das kann man bei einer Masterclass des Netzwerks Teilchenwelt. Was ist kurz nach dem Urknall passiert? Was sind die kleinsten Bausteine der Natur und was ist eigentlich dunkle Materie? Diesen und anderen Fragen gehen Teilchenphysiker in der ganzen Welt nach. Mithilfe von riesigen Teilchenbeschleunigern wie am CERN in Genf gehen sie der Entstehung der Welt auf den Grund und schließen von den kleinsten Teilchen auf die großen Zusammenhänge im Universum.  \nBei einer Teilchenphysik-Masterclass lernen Jugendliche im Alter von 15-19 Jahren nach einem einführenden Vortrag\, wie man echte Daten von Teilchenkollisionen vom CERN auswertet und was man dabei heraus finden kann. Sie identifizieren mithilfe von Nachwuchs-Teilchenphysiker/innen selber die Spuren von Quarks\, Elektronen und Co. und können in einem Quiz am Ende der Masterclass ihr Wissen testen. Die Teilnahme erfordert keine Vorkenntnisse – nur Interesse an der Faszination Teilchenphysik.  \nFür diese Veranstaltung ist keine Anmeldung möglich. Wenn Sie an Ihrer Schule eine Teilchenphysik-Masterclass durchführen möchten oder an einer anderen Veranstaltung teilnehmen möchten\, wenden Sie sich bitte an Ihren lokalen Standort-Kontakt von Netzwerk Teilchenwelt: www.teilchenwelt.de/ueber-uns/standorte/ und wir organisieren eine Veranstaltung für Sie!
URL:https://www.teilchenwelt.de/event/teilchenphysik-masterclass-2024-05-28-73360/
LOCATION:Schülerlabor physik.begreifen am DESY in Hamburg\, Notkestraße 85\, Hamburg\, 22607\, Deutschland
CATEGORIES:Masterclass,Workshop
END:VEVENT
END:VCALENDAR