BEGIN:VCALENDAR
VERSION:2.0
PRODID:-//Teilchenwelt - ECPv6.15.20//NONSGML v1.0//EN
CALSCALE:GREGORIAN
METHOD:PUBLISH
X-WR-CALNAME:Teilchenwelt
X-ORIGINAL-URL:https://www.teilchenwelt.de
X-WR-CALDESC:Veranstaltungen für Teilchenwelt
REFRESH-INTERVAL;VALUE=DURATION:PT1H
X-Robots-Tag:noindex
X-PUBLISHED-TTL:PT1H
BEGIN:VTIMEZONE
TZID:Europe/Berlin
BEGIN:DAYLIGHT
TZOFFSETFROM:+0100
TZOFFSETTO:+0200
TZNAME:CEST
DTSTART:20230326T010000
END:DAYLIGHT
BEGIN:STANDARD
TZOFFSETFROM:+0200
TZOFFSETTO:+0100
TZNAME:CET
DTSTART:20231029T010000
END:STANDARD
BEGIN:DAYLIGHT
TZOFFSETFROM:+0100
TZOFFSETTO:+0200
TZNAME:CEST
DTSTART:20240331T010000
END:DAYLIGHT
BEGIN:STANDARD
TZOFFSETFROM:+0200
TZOFFSETTO:+0100
TZNAME:CET
DTSTART:20241027T010000
END:STANDARD
BEGIN:DAYLIGHT
TZOFFSETFROM:+0100
TZOFFSETTO:+0200
TZNAME:CEST
DTSTART:20250330T010000
END:DAYLIGHT
BEGIN:STANDARD
TZOFFSETFROM:+0200
TZOFFSETTO:+0100
TZNAME:CET
DTSTART:20251026T010000
END:STANDARD
END:VTIMEZONE
BEGIN:VEVENT
DTSTART;VALUE=DATE:20240625
DTEND;VALUE=DATE:20240626
DTSTAMP:20260421T110839
CREATED:20241128T091223Z
LAST-MODIFIED:20241128T094956Z
UID:73662-1719273600-1719359999@www.teilchenwelt.de
SUMMARY:Teilchenphysik-Masterclass: Belle II
DESCRIPTION:Wie kommt es\, dass im Universum mehr Materie als Antimaterie zu finden ist? Eine Spur gibt es schon: Eine bestimmte Teilchenart zerfällt nicht zu gleichen Teilen in Materie und Antimaterie\, wie man es eigentlich erwarten würde. Mit dem neuen Belle II-Experiment in Japan\, das 2019 an den Start ging\, versuchen Wissenschaftler eine Antwort auf das Materie-/Antimaterie-Rätsel zu finden. \nIm Kurs werden Physikgrundlagen und der Belle II-Detektor vorgestellt und beispielhaft die Arbeit von Teilchenphysiker:innen anhand echter Daten nachvollzogen.
URL:https://www.teilchenwelt.de/event/teilchenphysik-masterclass-belle-ii-2024-06-25-73298/
LOCATION:Anno Gymnasium Siegburg\, Zeithstraße 186-188\, Siegburg\, 53721\, Deutschland
END:VEVENT
BEGIN:VEVENT
DTSTART;TZID=Europe/Berlin:20240625T143000
DTEND;TZID=Europe/Berlin:20240625T163000
DTSTAMP:20260421T110839
CREATED:20241128T091347Z
LAST-MODIFIED:20241128T095010Z
UID:74103-1719325800-1719333000@www.teilchenwelt.de
SUMMARY:Nebelkammer-Workshop
DESCRIPTION:Selbst kosmische Teilchen sichtbar machen wird in einem Workshop mit Nebelkammern möglich. Wurden mit diesem einfachen Detektor in den 1930er Jahren spektakuläre Entdeckungen gemacht\, findet man Nebelkammern heute vorwiegend in Museen und wissenschaftlichen Ausstellungen. \nNetzwerk Teilchenwelt bietet einen Experimentiersatz zum Selbstbau von Nebelkammern an. Ziel des Workshops ist das Identifizieren und Beschreiben unterschiedlicher Teilchenspuren. Außerdem erfahren die Teilnehmenden\, was kosmische Teilchen sind und wie die Teilchenspuren in der Nebelkammer entstehen. \nSommeruniversität 2024
URL:https://www.teilchenwelt.de/event/nebelkammer-workshop-2024-06-25-73175/
LOCATION:Technische Universität Dresden\, Andreas-Schubert-Bau\, Zellescher Weg 19\, Dresden\, 01069\, Deutschland
CATEGORIES:Workshop
END:VEVENT
END:VCALENDAR