BEGIN:VCALENDAR
VERSION:2.0
PRODID:-//Teilchenwelt - ECPv6.15.20//NONSGML v1.0//EN
CALSCALE:GREGORIAN
METHOD:PUBLISH
X-WR-CALNAME:Teilchenwelt
X-ORIGINAL-URL:https://www.teilchenwelt.de
X-WR-CALDESC:Veranstaltungen für Teilchenwelt
REFRESH-INTERVAL;VALUE=DURATION:PT1H
X-Robots-Tag:noindex
X-PUBLISHED-TTL:PT1H
BEGIN:VTIMEZONE
TZID:Europe/Berlin
BEGIN:DAYLIGHT
TZOFFSETFROM:+0100
TZOFFSETTO:+0200
TZNAME:CEST
DTSTART:20250330T010000
END:DAYLIGHT
BEGIN:STANDARD
TZOFFSETFROM:+0200
TZOFFSETTO:+0100
TZNAME:CET
DTSTART:20251026T010000
END:STANDARD
BEGIN:DAYLIGHT
TZOFFSETFROM:+0100
TZOFFSETTO:+0200
TZNAME:CEST
DTSTART:20260329T010000
END:DAYLIGHT
BEGIN:STANDARD
TZOFFSETFROM:+0200
TZOFFSETTO:+0100
TZNAME:CET
DTSTART:20261025T010000
END:STANDARD
BEGIN:DAYLIGHT
TZOFFSETFROM:+0100
TZOFFSETTO:+0200
TZNAME:CEST
DTSTART:20270328T010000
END:DAYLIGHT
BEGIN:STANDARD
TZOFFSETFROM:+0200
TZOFFSETTO:+0100
TZNAME:CET
DTSTART:20271031T010000
END:STANDARD
END:VTIMEZONE
BEGIN:VEVENT
DTSTART;VALUE=DATE:20260720
DTEND;VALUE=DATE:20260725
DTSTAMP:20260419T170453
CREATED:20260316T102045Z
LAST-MODIFIED:20260325T161146Z
UID:77993-1784505600-1784937599@www.teilchenwelt.de
SUMMARY:Schülerakademie Bonn
DESCRIPTION:Bei der Bonner Schülerakademie haben etwa 20 Schülerinnen und Schüler der gymnasialen Oberstufe und angehende Studierende die Möglichkeit\, eine Woche lang in verschiedene Arbeitsgebiete der Physik und Astronomie zu schnuppern.\nAuf dem Programm stehen neben Vorträgen auch das selbständige Experimentieren\, Führungen und Exkursionen. \nWeitere Informationen und Anmeldung zur Veranstaltung unter: www.physik-astro.uni-bonn.de/de/oeffentlichkeit/bonner-schuelerakademie-physik-astronomie \nBewerbungsschluss für die Schülerakademie 2026 ist der 1. Mai 2026. \nBitte melden Sie sich hier für die Veranstaltung an:\nwww.physik-astro.uni-bonn.de/de/oeffentlichkeit/bonner-schuelerakademie-physik-astronomie/bewerbung-schuelerakademie
URL:https://www.teilchenwelt.de/event/schuelerakademie-bonn-2026-07-20-72441/
LOCATION:Physikalisches Institut der Rheinischen Friedrich-Wilhelms-Universität Bonn\, Nußallee 12\, Bonn\, 53115\, Deutschland
CATEGORIES:mehrtägige Workshops,Workshop
END:VEVENT
BEGIN:VEVENT
DTSTART;VALUE=DATE:20260721
DTEND;VALUE=DATE:20260731
DTSTAMP:20260419T170453
CREATED:20260320T112128Z
LAST-MODIFIED:20260320T125356Z
UID:78025-1784592000-1785455999@www.teilchenwelt.de
SUMMARY:Teilchenphysik-Akademie in Mainz
DESCRIPTION:Du wolltest schon immer wissen\, aus welchen Elementarteilchen unser Universum besteht und welche Kräfte hierbei wirken? Du interessierst Dich brennend für fundamentale physikalische Fragestellungen und überlegst einmal Physik zu studieren \nDann finde bei uns heraus\, wie Teilchenphysiker arbeiten\, messen und forschen. Bei der Teilchenphysik-Akademie an der Johannes Gutenberg-Universität Mainz hast Du die einzigartige Gelegenheit deinen eigenen modernen Teilchendetektor zu konstruieren und ihn am  lokalen Elektronenbeschleuniger MAMI\, dem Mainzer Mikrofon\, mit relativistischen Elektronen zu testen. \nHierbei unterstützen dich Wissenschaftlerinnen und Wissenschaftler des Exzellenzclusters PRISMA und des Instituts für Kernphysik. In Vorträgen und Workshops wird dir nicht nur das notwendige Hintergrundwissen für den Bau eines Detektors vermittelt\, sondern Du bekommst auch Vorlesungen über Elementarteilchenphysik und der zugrunde liegenden mathematischen Konzepte. \nMehr Informationen und die Anmeldung gibt es auf der Webseite\nwww.schule.physik.uni-mainz.de/physik-und-schule-startseite/angebote/akademien/teilchenakademie/ \nDas Programm richtet sich an physikinteressierte Schülerinnen und Schüler der Oberstufe. Die Kosten für Anreise\, Verpflegung und Unterkunft in Mainz werden übernommen. \nDie Bewerbung für die Teilchenphysik-Akademie 2026 ist möglich bis zum 03.05.2026.  \nIn unserem Newsletter informieren wir Dich über weitere\, aktuelle Angebote.\nwww.teilchenwelt.de/aktuelles/newsletter/.
URL:https://www.teilchenwelt.de/event/teilchenphysik-akademie-in-mainz-2026-07-21-72769/
LOCATION:Johannes Gutenberg-Universität Mainz\, Staudinger Weg 7\, Mainz\, 55128\, Deutschland
CATEGORIES:Vortrag,Workshop
END:VEVENT
END:VCALENDAR