BEGIN:VCALENDAR
VERSION:2.0
PRODID:-//Teilchenwelt - ECPv6.15.20//NONSGML v1.0//EN
CALSCALE:GREGORIAN
METHOD:PUBLISH
X-ORIGINAL-URL:https://www.teilchenwelt.de
X-WR-CALDESC:Veranstaltungen für Teilchenwelt
REFRESH-INTERVAL;VALUE=DURATION:PT1H
X-Robots-Tag:noindex
X-PUBLISHED-TTL:PT1H
BEGIN:VTIMEZONE
TZID:Europe/Berlin
BEGIN:DAYLIGHT
TZOFFSETFROM:+0100
TZOFFSETTO:+0200
TZNAME:CEST
DTSTART:20250330T010000
END:DAYLIGHT
BEGIN:STANDARD
TZOFFSETFROM:+0200
TZOFFSETTO:+0100
TZNAME:CET
DTSTART:20251026T010000
END:STANDARD
BEGIN:DAYLIGHT
TZOFFSETFROM:+0100
TZOFFSETTO:+0200
TZNAME:CEST
DTSTART:20260329T010000
END:DAYLIGHT
BEGIN:STANDARD
TZOFFSETFROM:+0200
TZOFFSETTO:+0100
TZNAME:CET
DTSTART:20261025T010000
END:STANDARD
BEGIN:DAYLIGHT
TZOFFSETFROM:+0100
TZOFFSETTO:+0200
TZNAME:CEST
DTSTART:20270328T010000
END:DAYLIGHT
BEGIN:STANDARD
TZOFFSETFROM:+0200
TZOFFSETTO:+0100
TZNAME:CET
DTSTART:20271031T010000
END:STANDARD
END:VTIMEZONE
BEGIN:VEVENT
DTSTART;TZID=Europe/Berlin:20260816T090000
DTEND;TZID=Europe/Berlin:20260821T160000
DTSTAMP:20260419T194349
CREATED:20260316T102044Z
LAST-MODIFIED:20260325T161145Z
UID:77992-1786870800-1787328000@www.teilchenwelt.de
SUMMARY:Science Camp Teilchen- und Astroteilchenphysik
DESCRIPTION:Warum bauen wir Teilchenbeschleuniger und was können wir mit ihnen beobachten? Wieso brauchen wir Erkenntnisse aus der Teilchenphysik\, um die Entstehung des Universums und die Abläufe darin zu verstehen? Und welche Anwendungsmöglichkeiten haben die darauf basierenden Technologien im alltäglichen Leben? \nDas Science Camp Teilchen- und Astroteilchenphysik ist ein Angebot des Karlsruher Institut für Technologie für Schüler ab der abgeschlossenen 9. Klasse. Es bietet für eine Woche einen spannenden Einblick in die aktuelle Forschung mit Vorträgen von Physikprofessor:innen\, Besichtigung von Experimenten und der Beschäftigung mit eigenen Experimenten in Teams. \nMehr Infos und Anmeldung unter: www.zml.kit.edu/sciencecamp-physik.php \nBitte melden Sie sich hier für die Veranstaltung an:\nwww.schuelerakademie-ka.de/projekte/science-camp-teilchen-und-astroteilchenphysik-vom-16-21-08-26/
URL:https://www.teilchenwelt.de/event/science-camp-teilchen-und-astroteilchenphysik-2026-08-16-73349/
LOCATION:Karlsruher Institut für Technologie (KIT)\, Wolfgang-Gaede-Straße 1\, Karlsruhe\, 76131\, Deutschland
CATEGORIES:mehrtägige Workshops,Workshop
END:VEVENT
END:VCALENDAR