BEGIN:VCALENDAR
VERSION:2.0
PRODID:-//Teilchenwelt - ECPv6.15.20//NONSGML v1.0//EN
CALSCALE:GREGORIAN
METHOD:PUBLISH
X-WR-CALNAME:Teilchenwelt
X-ORIGINAL-URL:https://www.teilchenwelt.de
X-WR-CALDESC:Veranstaltungen für Teilchenwelt
REFRESH-INTERVAL;VALUE=DURATION:PT1H
X-Robots-Tag:noindex
X-PUBLISHED-TTL:PT1H
BEGIN:VTIMEZONE
TZID:Europe/Berlin
BEGIN:DAYLIGHT
TZOFFSETFROM:+0100
TZOFFSETTO:+0200
TZNAME:CEST
DTSTART:20250330T010000
END:DAYLIGHT
BEGIN:STANDARD
TZOFFSETFROM:+0200
TZOFFSETTO:+0100
TZNAME:CET
DTSTART:20251026T010000
END:STANDARD
BEGIN:DAYLIGHT
TZOFFSETFROM:+0100
TZOFFSETTO:+0200
TZNAME:CEST
DTSTART:20260329T010000
END:DAYLIGHT
BEGIN:STANDARD
TZOFFSETFROM:+0200
TZOFFSETTO:+0100
TZNAME:CET
DTSTART:20261025T010000
END:STANDARD
BEGIN:DAYLIGHT
TZOFFSETFROM:+0100
TZOFFSETTO:+0200
TZNAME:CEST
DTSTART:20270328T010000
END:DAYLIGHT
BEGIN:STANDARD
TZOFFSETFROM:+0200
TZOFFSETTO:+0100
TZNAME:CET
DTSTART:20271031T010000
END:STANDARD
END:VTIMEZONE
BEGIN:VEVENT
DTSTART;VALUE=DATE:20260819
DTEND;VALUE=DATE:20260823
DTSTAMP:20260419T190921
CREATED:20260320T120119Z
LAST-MODIFIED:20260401T124542Z
UID:78031-1787097600-1787443199@www.teilchenwelt.de
SUMMARY:Physik-Projekt-Tage Kiel
DESCRIPTION:Die Physikprojekttage an der Universität Kiel sind ein viertägiger Workshop für interessierte Oberstufenschülerinnen. Neben dem Experimentieren in kleinen Gruppen mit anderen Jugendlichen an eigenen\, spannenden Projekten bekommen die Teilnehmerinnen durch das Rahmenprogramm auch einen Einblick in den Alltag an der Uni.  \nZiel ist das Kennenlernen von Studieren und Arbeiten an einer Uni\, besondere Vorkenntnisse sind dafür nicht nötig. \nDie Kosten für die Teilnahme\, inklusive Verpflegung\, Unterkunft und Fahrtkosten\, werden vollständig übernommen. \nWeitere Informationen zur Veranstaltung gibt es auf der Webseite: ppt.physik.uni-kiel.de/\nDie Anmeldung ist ab Ende April möglich.
URL:https://www.teilchenwelt.de/event/physik-projekt-tage-kiel-2026-08-19-73225/
LOCATION:Christian-Albrechts-Universität zu Kiel
CATEGORIES:mehrtägige Workshops,Workshop
END:VEVENT
END:VCALENDAR