BEGIN:VCALENDAR
VERSION:2.0
PRODID:-//Teilchenwelt - ECPv6.15.20//NONSGML v1.0//EN
CALSCALE:GREGORIAN
METHOD:PUBLISH
X-WR-CALNAME:Teilchenwelt
X-ORIGINAL-URL:https://www.teilchenwelt.de
X-WR-CALDESC:Veranstaltungen für Teilchenwelt
REFRESH-INTERVAL;VALUE=DURATION:PT1H
X-Robots-Tag:noindex
X-PUBLISHED-TTL:PT1H
BEGIN:VTIMEZONE
TZID:Europe/Berlin
BEGIN:DAYLIGHT
TZOFFSETFROM:+0100
TZOFFSETTO:+0200
TZNAME:CEST
DTSTART:20250330T010000
END:DAYLIGHT
BEGIN:STANDARD
TZOFFSETFROM:+0200
TZOFFSETTO:+0100
TZNAME:CET
DTSTART:20251026T010000
END:STANDARD
BEGIN:DAYLIGHT
TZOFFSETFROM:+0100
TZOFFSETTO:+0200
TZNAME:CEST
DTSTART:20260329T010000
END:DAYLIGHT
BEGIN:STANDARD
TZOFFSETFROM:+0200
TZOFFSETTO:+0100
TZNAME:CET
DTSTART:20261025T010000
END:STANDARD
BEGIN:DAYLIGHT
TZOFFSETFROM:+0100
TZOFFSETTO:+0200
TZNAME:CEST
DTSTART:20270328T010000
END:DAYLIGHT
BEGIN:STANDARD
TZOFFSETFROM:+0200
TZOFFSETTO:+0100
TZNAME:CET
DTSTART:20271031T010000
END:STANDARD
END:VTIMEZONE
BEGIN:VEVENT
DTSTART;TZID=Europe/Berlin:20261019T140000
DTEND;TZID=Europe/Berlin:20261031T170000
DTSTAMP:20260419T223610
CREATED:20260209T121233Z
LAST-MODIFIED:20260325T135426Z
UID:77931-1792418400-1793466000@www.teilchenwelt.de
SUMMARY:Projektwochen am CERN
DESCRIPTION:Selber forschen am CERN – das können zehn Jugendliche bei den Projektwochen des Netzwerks Teilchenwelt. Für zwei Wochen werden die TeilnehmerInnen eingeladen\, praktisch zu erleben\, wie Forschung am größten Experiment der Welt funktioniert und an eigenen Projekten zu arbeiten. \nDas erwartet Euch bei den Projektwochen: \n    Fundierter Einblick: zwei Wochen Forschung am CERN hautnah.\n    Selber forschen: Arbeite in einer Arbeitsgruppe am CERN an Deinem eigenen Projekt.\n    Lernen und staunen: Besichtigungen ausgewählter CERN-Forschungsbereiche. \nWer kann sich bewerben? \n****Bewerbungszeitraum: 13.04.2026 bis 31.05.2026.**** \nBewerber:innen müssen zuvor Programmstufen von Netzwerk Teilchenwelt absolviert haben\, und zwar: \n    Teilnahme an einer Astro-/Teilchenphysik-Masterclass\, International Masterclass oder an Experimenten mit kosmischen Teilchen (Basisprogramm)\n    Aktivität als Tutor:in bei Masterclasses oder Veranstaltungen mit Experimenten mit kosmischen Teilchen\, Mitarbeit bei anderen Aktivitäten am lokalen Netzwerk-Standort\, Engagement an der eigenen Schule (z.B. Organisation einer Masterclass\, Halten eines Vortrages über Astro-/Teilchenphysik)\, intensive Beschäftigung mit Themen der Astro-/Teilchenphysik (z.B. Projektwoche an der Schule\, Praktikum am lokalen Standort) o.ä. (Qualifizierungsprogramm)\n    erwünscht ist außerdem die Teilnahme an einem Vertiefungsprogramm\, z. B. Workshop am CERN\, Teilchenphysik-Akademie\, andere mehrtägige Camps \nFolgende Kriterien müsst Ihr außerdem erfüllen: \n    Ihr geht zum Zeitpunkt der Projektwochen zur Schule oder steht kurz vor dem Beginn des Studiums.\n    Ihr seit zum Zeitpunkt der Projektwochen mindestens 16 Jahre alt.\n    Ihr schreibt nachweisbar an einer Forschungsarbeit oder plant diese (z.B. BeLL\, 5. Prüfungskomponente\, besondere Lernleistung\, „Jugend forscht“-Arbeit o.ä.). \nDamit die Forschungsarbeit gelingt: \nIhr müsst mit Eurer Schule und/oder mit einem lokalen Forschungsinstitut/Universität das Thema Eurer Forschungsarbeit sowie die Betreuung in der Vor- und Nachbereitung für die Projektwochen abstimmen und die Betreuung während der Zeit am CERN sicherstellen. Wendet Euch diesbezüglich möglichst frühzeitig an Euren lokalen Netzwerk Teilchenwelt-Standort und eine Lehrkraft. Solltet Ihr noch keine Möglichkeiten der Betreuung am CERN oder in Deutschland gefunden haben\, versuchen wir\, Euch bei der Suche zu helfen und eine Betreuung zu vermitteln. \nKosten und Programm \nDie Kosten für die An- und Abreise in einer Höhe von bis zu 200\,-€\, die Unterkunft auf dem Gelände des CERN im Doppelzimmer sowie die Verpflegung übernimmt das Netzwerk Teilchenwelt. Ausgaben für Freizeitaktivitäten müssen selbst getragen werden.  \nDas Programm wird gefördert von der Wilhelm und Else-Heraeus-Stiftung.  \nBitte melden Sie sich hier für die Veranstaltung an:\nindico.cern.ch/event/1369977/
URL:https://www.teilchenwelt.de/event/projektwochen-am-cern-2026-10-19-73402/
LOCATION:CERN\, Route de Meyrin 385\, Genf\, 1211\, Schweiz
CATEGORIES:Workshop
END:VEVENT
END:VCALENDAR